BEGIN:VCALENDAR
VERSION:2.0
PRODID:-//Association MégaNéo - ECPv6.15.17.1//NONSGML v1.0//EN
CALSCALE:GREGORIAN
METHOD:PUBLISH
X-ORIGINAL-URL:https://www.meganeo.fr
X-WR-CALDESC:Évènements pour Association MégaNéo
REFRESH-INTERVAL;VALUE=DURATION:PT1H
X-Robots-Tag:noindex
X-PUBLISHED-TTL:PT1H
BEGIN:VTIMEZONE
TZID:Europe/Paris
BEGIN:DAYLIGHT
TZOFFSETFROM:+0100
TZOFFSETTO:+0200
TZNAME:CEST
DTSTART:20180325T010000
END:DAYLIGHT
BEGIN:STANDARD
TZOFFSETFROM:+0200
TZOFFSETTO:+0100
TZNAME:CET
DTSTART:20181028T010000
END:STANDARD
BEGIN:DAYLIGHT
TZOFFSETFROM:+0100
TZOFFSETTO:+0200
TZNAME:CEST
DTSTART:20190331T010000
END:DAYLIGHT
BEGIN:STANDARD
TZOFFSETFROM:+0200
TZOFFSETTO:+0100
TZNAME:CET
DTSTART:20191027T010000
END:STANDARD
BEGIN:DAYLIGHT
TZOFFSETFROM:+0100
TZOFFSETTO:+0200
TZNAME:CEST
DTSTART:20200329T010000
END:DAYLIGHT
BEGIN:STANDARD
TZOFFSETFROM:+0200
TZOFFSETTO:+0100
TZNAME:CET
DTSTART:20201025T010000
END:STANDARD
END:VTIMEZONE
BEGIN:VEVENT
DTSTART;TZID=Europe/Paris:20190713T100000
DTEND;TZID=Europe/Paris:20190713T190000
DTSTAMP:20260425T131449
CREATED:20190212T103512Z
LAST-MODIFIED:20190214T122955Z
UID:1608-1563012000-1563044400@www.meganeo.fr
SUMMARY:Journée archéologique du Pays Basque
DESCRIPTION:Programme prévisionnel de la journée : \n9H00 : accueil des participants\n9H20 : introduction par les organisateurs\n9h30 : communications\n12h : buffet offert (inscription obligatoire)\n14h : communications\n17h : projection du film : « Les 3 âges » de B. Keaton\n18h : conclusion de la journée et verre de l’amitié \n  \nPlus d’informations à venir. 
URL:https://www.meganeo.fr/activite/journee-archeologique-du-pays-basque-2/
LOCATION:Cinéma Bil-Etxea\, St-Etienne-de-Baigorry\, Bourg\, Saint Etienne de Baigorry\, 64430\, France
CATEGORIES:Conférence
ATTACH;FMTTYPE=image/jpeg:https://www.meganeo.fr/wp-content/uploads/Gabari-Event-14.jpg
ORGANIZER;CN="UPPB":MAILTO:contact@uppaysbasque.com
END:VEVENT
END:VCALENDAR