BEGIN:VCALENDAR
VERSION:2.0
PRODID:-//Association MégaNéo - ECPv6.15.17.1//NONSGML v1.0//EN
CALSCALE:GREGORIAN
METHOD:PUBLISH
X-WR-CALNAME:Association MégaNéo
X-ORIGINAL-URL:https://www.meganeo.fr
X-WR-CALDESC:Évènements pour Association MégaNéo
REFRESH-INTERVAL;VALUE=DURATION:PT1H
X-Robots-Tag:noindex
X-PUBLISHED-TTL:PT1H
BEGIN:VTIMEZONE
TZID:Europe/Paris
BEGIN:DAYLIGHT
TZOFFSETFROM:+0100
TZOFFSETTO:+0200
TZNAME:CEST
DTSTART:20190331T010000
END:DAYLIGHT
BEGIN:STANDARD
TZOFFSETFROM:+0200
TZOFFSETTO:+0100
TZNAME:CET
DTSTART:20191027T010000
END:STANDARD
BEGIN:DAYLIGHT
TZOFFSETFROM:+0100
TZOFFSETTO:+0200
TZNAME:CEST
DTSTART:20200329T010000
END:DAYLIGHT
BEGIN:STANDARD
TZOFFSETFROM:+0200
TZOFFSETTO:+0100
TZNAME:CET
DTSTART:20201025T010000
END:STANDARD
BEGIN:DAYLIGHT
TZOFFSETFROM:+0100
TZOFFSETTO:+0200
TZNAME:CEST
DTSTART:20210328T010000
END:DAYLIGHT
BEGIN:STANDARD
TZOFFSETFROM:+0200
TZOFFSETTO:+0100
TZNAME:CET
DTSTART:20211031T010000
END:STANDARD
END:VTIMEZONE
BEGIN:VEVENT
DTSTART;VALUE=DATE:20201010
DTEND;VALUE=DATE:20201011
DTSTAMP:20260424T124510
CREATED:20201003T163942Z
LAST-MODIFIED:20201003T163942Z
UID:2273-1602288000-1602374399@www.meganeo.fr
SUMMARY:Néodyssée édition 2020
DESCRIPTION:Pour l’édition 2020\, Néodysée vous propose un programme resserré le 10 octobre :\n\n\nA 10h : Comment les travaux d’Arnault-Poirier servent-ils la science actuelle ? Visite commentée des sites d’Auton (Bournand) et Chantebrault VIII (Saint-Laon) par Vincent Aguillon (animateur du patrimoine\, C.C. du Pays Loudunais)\, avec l’intervention du topographe Dominique Biron (Paléo-Néo & Nous). Rdv à 9h50 Moulin Trois-Moutiers.\nCiné Cornay à 14h30 : « Des mathématiques aux mégalithes et au patrimoine loudunais\, dans les pas d’Antoine-Ferdinand Arnault\, dit Arnault-Poirier (1776-1848) »\, conférence par Thérèse DEREIX DE LAPLANE (historienne) pour découvrir la vie d’Arnault-Poirier\nMusée Ch.-Lassay\, de 15h à 18h : exposition des travaux d’Arnault-Poirier et portes-ouvertes de Paléo-Néo & Nous.
URL:https://www.meganeo.fr/activite/neodyssee-edition-2020/
LOCATION:Chantebrault IV\, Saint Laon\, Chantebrault\, Saint-Laon\, Nouvelle-Aquitaine\, 86200\, France
CATEGORIES:Conférence,Visite
ATTACH;FMTTYPE=image/jpeg:https://www.meganeo.fr/wp-content/uploads/PATR-118-PROGRAMME_Néodyssée-2020.jpg
END:VEVENT
END:VCALENDAR