BEGIN:VCALENDAR
VERSION:2.0
PRODID:-//Association MégaNéo - ECPv6.15.17.1//NONSGML v1.0//EN
CALSCALE:GREGORIAN
METHOD:PUBLISH
X-WR-CALNAME:Association MégaNéo
X-ORIGINAL-URL:https://www.meganeo.fr
X-WR-CALDESC:Évènements pour Association MégaNéo
REFRESH-INTERVAL;VALUE=DURATION:PT1H
X-Robots-Tag:noindex
X-PUBLISHED-TTL:PT1H
BEGIN:VTIMEZONE
TZID:Europe/Paris
BEGIN:DAYLIGHT
TZOFFSETFROM:+0100
TZOFFSETTO:+0200
TZNAME:CEST
DTSTART:20190331T010000
END:DAYLIGHT
BEGIN:STANDARD
TZOFFSETFROM:+0200
TZOFFSETTO:+0100
TZNAME:CET
DTSTART:20191027T010000
END:STANDARD
BEGIN:DAYLIGHT
TZOFFSETFROM:+0100
TZOFFSETTO:+0200
TZNAME:CEST
DTSTART:20200329T010000
END:DAYLIGHT
BEGIN:STANDARD
TZOFFSETFROM:+0200
TZOFFSETTO:+0100
TZNAME:CET
DTSTART:20201025T010000
END:STANDARD
BEGIN:DAYLIGHT
TZOFFSETFROM:+0100
TZOFFSETTO:+0200
TZNAME:CEST
DTSTART:20210328T010000
END:DAYLIGHT
BEGIN:STANDARD
TZOFFSETFROM:+0200
TZOFFSETTO:+0100
TZNAME:CET
DTSTART:20211031T010000
END:STANDARD
END:VTIMEZONE
BEGIN:VEVENT
DTSTART;TZID=Europe/Paris:20201214T140000
DTEND;TZID=Europe/Paris:20201214T170000
DTSTAMP:20260424T094916
CREATED:20201209T205455Z
LAST-MODIFIED:20201209T205455Z
UID:2325-1607954400-1607965200@www.meganeo.fr
SUMMARY:Soutenance de thèse : Le mégalithisme de la Corse : Monuments\, essai chronologique\, catalogue
DESCRIPTION:Franck Leandri soutiendra sa thèse intitulée « Le mégalithisme de la Corse : Monuments\, essai chronologique\, catalogue » le 14 décembre à 14h en ligne. \nAu moment de la délibération\, il y aura une pause dans la rediffusion car le live sera coupé\, il faudra alors rafraîchir le lien afin de récupérer le streaming.
URL:https://www.meganeo.fr/activite/soutenance-de-these-le-megalithisme-de-la-corse-monuments-essai-chronologique-catalogue/
CATEGORIES:Conférence
END:VEVENT
END:VCALENDAR