BEGIN:VCALENDAR
VERSION:2.0
PRODID:-//Association MégaNéo - ECPv6.15.17.1//NONSGML v1.0//EN
CALSCALE:GREGORIAN
METHOD:PUBLISH
X-WR-CALNAME:Association MégaNéo
X-ORIGINAL-URL:https://www.meganeo.fr
X-WR-CALDESC:Évènements pour Association MégaNéo
REFRESH-INTERVAL;VALUE=DURATION:PT1H
X-Robots-Tag:noindex
X-PUBLISHED-TTL:PT1H
BEGIN:VTIMEZONE
TZID:Europe/Paris
BEGIN:DAYLIGHT
TZOFFSETFROM:+0100
TZOFFSETTO:+0200
TZNAME:CEST
DTSTART:20200329T010000
END:DAYLIGHT
BEGIN:STANDARD
TZOFFSETFROM:+0200
TZOFFSETTO:+0100
TZNAME:CET
DTSTART:20201025T010000
END:STANDARD
BEGIN:DAYLIGHT
TZOFFSETFROM:+0100
TZOFFSETTO:+0200
TZNAME:CEST
DTSTART:20210328T010000
END:DAYLIGHT
BEGIN:STANDARD
TZOFFSETFROM:+0200
TZOFFSETTO:+0100
TZNAME:CET
DTSTART:20211031T010000
END:STANDARD
BEGIN:DAYLIGHT
TZOFFSETFROM:+0100
TZOFFSETTO:+0200
TZNAME:CEST
DTSTART:20220327T010000
END:DAYLIGHT
BEGIN:STANDARD
TZOFFSETFROM:+0200
TZOFFSETTO:+0100
TZNAME:CET
DTSTART:20221030T010000
END:STANDARD
END:VTIMEZONE
BEGIN:VEVENT
DTSTART;TZID=Europe/Paris:20210810T203000
DTEND;TZID=Europe/Paris:20210810T223000
DTSTAMP:20260423T215931
CREATED:20210704T144144Z
LAST-MODIFIED:20210704T150841Z
UID:2521-1628627400-1628634600@www.meganeo.fr
SUMMARY:Pause ciné : diffusion du documentaire "Ethiopie\, le mystère des Mégalithes"
DESCRIPTION:Le  mardi 10 août à 20h30 une projection du documentaire « Ethiopie\, le mystère des Mégalithes » est proposée. Elle sera suivie d’un échange avec Vincent Ard\, chargé de recherche au CNRS\, qui a participé à ce documentaire. \nCet événement est gratuit.
URL:https://www.meganeo.fr/activite/pause-cine-diffusion-du-documentaire-ethiopie-le-mystere-des-megalithes/
LOCATION:Salle polyvalente Courcôme\, 18 Grand Rue\, Courcôme\, 16240
CATEGORIES:Conférence
ATTACH;FMTTYPE=image/jpeg:https://www.meganeo.fr/wp-content/uploads/Gabari-art-8.jpg
END:VEVENT
END:VCALENDAR