BEGIN:VCALENDAR
VERSION:2.0
PRODID:-//Association MégaNéo - ECPv6.15.17.1//NONSGML v1.0//EN
CALSCALE:GREGORIAN
METHOD:PUBLISH
X-ORIGINAL-URL:https://www.meganeo.fr
X-WR-CALDESC:Évènements pour Association MégaNéo
REFRESH-INTERVAL;VALUE=DURATION:PT1H
X-Robots-Tag:noindex
X-PUBLISHED-TTL:PT1H
BEGIN:VTIMEZONE
TZID:Europe/Paris
BEGIN:DAYLIGHT
TZOFFSETFROM:+0100
TZOFFSETTO:+0200
TZNAME:CEST
DTSTART:20210328T010000
END:DAYLIGHT
BEGIN:STANDARD
TZOFFSETFROM:+0200
TZOFFSETTO:+0100
TZNAME:CET
DTSTART:20211031T010000
END:STANDARD
BEGIN:DAYLIGHT
TZOFFSETFROM:+0100
TZOFFSETTO:+0200
TZNAME:CEST
DTSTART:20220327T010000
END:DAYLIGHT
BEGIN:STANDARD
TZOFFSETFROM:+0200
TZOFFSETTO:+0100
TZNAME:CET
DTSTART:20221030T010000
END:STANDARD
BEGIN:DAYLIGHT
TZOFFSETFROM:+0100
TZOFFSETTO:+0200
TZNAME:CEST
DTSTART:20230326T010000
END:DAYLIGHT
BEGIN:STANDARD
TZOFFSETFROM:+0200
TZOFFSETTO:+0100
TZNAME:CET
DTSTART:20231029T010000
END:STANDARD
END:VTIMEZONE
BEGIN:VEVENT
DTSTART;TZID=Europe/Paris:20220219T170000
DTEND;TZID=Europe/Paris:20220219T190000
DTSTAMP:20260423T132634
CREATED:20220109T131806Z
LAST-MODIFIED:20220109T131806Z
UID:2659-1645290000-1645297200@www.meganeo.fr
SUMMARY:Conférence : "A la recherche des fantômes du passé"
DESCRIPTION:Le 19 février 2022\, partez à la découverte des prospections aériennes réalisées par Eric Bouchet. Le temps d’une conférence vous pourrez voir des photos aériennes prises ces dix dernières années autour de Vindelle en Charentes. \n 
URL:https://www.meganeo.fr/activite/conference-a-la-recherche-des-fantomes-du-passe/
LOCATION:Salle des fêtes de Vindelle\, Vindelle\, 16430\, France
CATEGORIES:Conférence
ATTACH;FMTTYPE=image/jpeg:https://www.meganeo.fr/wp-content/uploads/conference-Vindelle-2022.jpg
END:VEVENT
END:VCALENDAR