BEGIN:VCALENDAR
VERSION:2.0
PRODID:-//Association MégaNéo - ECPv6.15.17.1//NONSGML v1.0//EN
CALSCALE:GREGORIAN
METHOD:PUBLISH
X-ORIGINAL-URL:https://www.meganeo.fr
X-WR-CALDESC:Évènements pour Association MégaNéo
REFRESH-INTERVAL;VALUE=DURATION:PT1H
X-Robots-Tag:noindex
X-PUBLISHED-TTL:PT1H
BEGIN:VTIMEZONE
TZID:Europe/Paris
BEGIN:DAYLIGHT
TZOFFSETFROM:+0100
TZOFFSETTO:+0200
TZNAME:CEST
DTSTART:20220327T010000
END:DAYLIGHT
BEGIN:STANDARD
TZOFFSETFROM:+0200
TZOFFSETTO:+0100
TZNAME:CET
DTSTART:20221030T010000
END:STANDARD
BEGIN:DAYLIGHT
TZOFFSETFROM:+0100
TZOFFSETTO:+0200
TZNAME:CEST
DTSTART:20230326T010000
END:DAYLIGHT
BEGIN:STANDARD
TZOFFSETFROM:+0200
TZOFFSETTO:+0100
TZNAME:CET
DTSTART:20231029T010000
END:STANDARD
BEGIN:DAYLIGHT
TZOFFSETFROM:+0100
TZOFFSETTO:+0200
TZNAME:CEST
DTSTART:20240331T010000
END:DAYLIGHT
BEGIN:STANDARD
TZOFFSETFROM:+0200
TZOFFSETTO:+0100
TZNAME:CET
DTSTART:20241027T010000
END:STANDARD
END:VTIMEZONE
BEGIN:VEVENT
DTSTART;TZID=Europe/Paris:20230218T173000
DTEND;TZID=Europe/Paris:20230218T183000
DTSTAMP:20260422T200327
CREATED:20230208T174233Z
LAST-MODIFIED:20230208T174621Z
UID:2934-1676741400-1676745000@www.meganeo.fr
SUMMARY:Conférence et Présentation de  l'ouvrage de synthèse des fouilles effectuées à Chenommet
DESCRIPTION:Le 18 février 2023 à 17h30\, une conférence sera donnée par Vincent Ard. Ce sera l’occasion de présenter l’ouvrage de synthèse des fouilles archéologiques effectuées à Chenommet. \nEntrée libre \nPour en savoir plus sur l’ouvrage Archéologie d’une enceinte fossoyée du Néolithique récent dans le Centre-Ouest de la France : Bellevue à Chenommet sous la direction de Vincent Ard.
URL:https://www.meganeo.fr/activite/conference-et-presentation-de-louvrage-de-synthese-des-fouilles-effectuees-a-chenommet/
LOCATION:Salle des fetes Aunac\, 1 place de la mairie\, Aunac sur Charente\, 16460\, France
CATEGORIES:Conférence
ATTACH;FMTTYPE=image/jpeg:https://www.meganeo.fr/wp-content/uploads/V7-affiche-conference-et-presentation-des-fouilles.jpg
END:VEVENT
END:VCALENDAR