BEGIN:VCALENDAR
VERSION:2.0
PRODID:-//Association MégaNéo - ECPv6.15.17.1//NONSGML v1.0//EN
CALSCALE:GREGORIAN
METHOD:PUBLISH
X-WR-CALNAME:Association MégaNéo
X-ORIGINAL-URL:https://www.meganeo.fr
X-WR-CALDESC:Évènements pour Association MégaNéo
REFRESH-INTERVAL;VALUE=DURATION:PT1H
X-Robots-Tag:noindex
X-PUBLISHED-TTL:PT1H
BEGIN:VTIMEZONE
TZID:Europe/Paris
BEGIN:DAYLIGHT
TZOFFSETFROM:+0100
TZOFFSETTO:+0200
TZNAME:CEST
DTSTART:20220327T010000
END:DAYLIGHT
BEGIN:STANDARD
TZOFFSETFROM:+0200
TZOFFSETTO:+0100
TZNAME:CET
DTSTART:20221030T010000
END:STANDARD
BEGIN:DAYLIGHT
TZOFFSETFROM:+0100
TZOFFSETTO:+0200
TZNAME:CEST
DTSTART:20230326T010000
END:DAYLIGHT
BEGIN:STANDARD
TZOFFSETFROM:+0200
TZOFFSETTO:+0100
TZNAME:CET
DTSTART:20231029T010000
END:STANDARD
BEGIN:DAYLIGHT
TZOFFSETFROM:+0100
TZOFFSETTO:+0200
TZNAME:CEST
DTSTART:20240331T010000
END:DAYLIGHT
BEGIN:STANDARD
TZOFFSETFROM:+0200
TZOFFSETTO:+0100
TZNAME:CET
DTSTART:20241027T010000
END:STANDARD
END:VTIMEZONE
BEGIN:VEVENT
DTSTART;TZID=Europe/Paris:20231031T153000
DTEND;TZID=Europe/Paris:20231031T170000
DTSTAMP:20260422T072317
CREATED:20231030T135536Z
LAST-MODIFIED:20231030T135536Z
UID:3063-1698766200-1698771600@www.meganeo.fr
SUMMARY:Megalithic Landscape: new investigations methods and conservation issues\, from France to Gedeo
DESCRIPTION:Le 31 octobre 2023  un séminaire se déroulera à l’Université Addis Abeba (Éthiopie). Intitulé « Megalithic Landscape: new investigations methods and conservation issues\, from France to Gedeo » il sera animé par Vincent Ard (CNRS-TRACES) et Aurélien Pierre (Musée Fenaille – Rodez). \nPour plus d’informations rendez vous sur le site du CFEE (Centre français des études éthiopiennes) : https://cfee.hypotheses.org/9868
URL:https://www.meganeo.fr/activite/megalithic-landscape-new-investigations-methods-and-conservation-issues-from-france-to-gedeo/
CATEGORIES:Conférence
END:VEVENT
END:VCALENDAR