BEGIN:VCALENDAR
VERSION:2.0
PRODID:-//Association MégaNéo - ECPv6.15.17.1//NONSGML v1.0//EN
CALSCALE:GREGORIAN
METHOD:PUBLISH
X-WR-CALNAME:Association MégaNéo
X-ORIGINAL-URL:https://www.meganeo.fr
X-WR-CALDESC:Évènements pour Association MégaNéo
REFRESH-INTERVAL;VALUE=DURATION:PT1H
X-Robots-Tag:noindex
X-PUBLISHED-TTL:PT1H
BEGIN:VTIMEZONE
TZID:Europe/Paris
BEGIN:DAYLIGHT
TZOFFSETFROM:+0100
TZOFFSETTO:+0200
TZNAME:CEST
DTSTART:20240331T010000
END:DAYLIGHT
BEGIN:STANDARD
TZOFFSETFROM:+0200
TZOFFSETTO:+0100
TZNAME:CET
DTSTART:20241027T010000
END:STANDARD
BEGIN:DAYLIGHT
TZOFFSETFROM:+0100
TZOFFSETTO:+0200
TZNAME:CEST
DTSTART:20250330T010000
END:DAYLIGHT
BEGIN:STANDARD
TZOFFSETFROM:+0200
TZOFFSETTO:+0100
TZNAME:CET
DTSTART:20251026T010000
END:STANDARD
BEGIN:DAYLIGHT
TZOFFSETFROM:+0100
TZOFFSETTO:+0200
TZNAME:CEST
DTSTART:20260329T010000
END:DAYLIGHT
BEGIN:STANDARD
TZOFFSETFROM:+0200
TZOFFSETTO:+0100
TZNAME:CET
DTSTART:20261025T010000
END:STANDARD
END:VTIMEZONE
BEGIN:VEVENT
DTSTART;VALUE=DATE:20251004
DTEND;VALUE=DATE:20251006
DTSTAMP:20260420T122306
CREATED:20250915T090556Z
LAST-MODIFIED:20250915T090556Z
UID:3325-1759536000-1759708799@www.meganeo.fr
SUMMARY:Néodyssées 2025
DESCRIPTION:Pour cette nouvelle édition des Néodyssées\, l’association Méganéo a de nouveau répondu présente. Les membres de l’association vous accueillerons sur notre stand\, l’occasion de découvrir les activités de notre association et d’acquérir un tee shirt ou un sticker. \nCette année les Néodyssées se dérouleront à l’Institut Richemont (Val de Cognac) et auront pour thème la navigation à la Préhistoire. Rendez les 4 et 5 octobre de 10 à 18h on vous attend.
URL:https://www.meganeo.fr/activite/neodyssees-2025/
LOCATION:Institut Richemont\, 12 route de l’ancien séminaire\, Val de Cognac\, 16370\, France
CATEGORIES:Exposition,Visite
ATTACH;FMTTYPE=image/png:https://www.meganeo.fr/wp-content/uploads/neodysees-2025.jpg.png
END:VEVENT
END:VCALENDAR