BEGIN:VCALENDAR
VERSION:2.0
PRODID:-//Association MégaNéo - ECPv6.15.17.1//NONSGML v1.0//EN
CALSCALE:GREGORIAN
METHOD:PUBLISH
X-WR-CALNAME:Association MégaNéo
X-ORIGINAL-URL:https://www.meganeo.fr
X-WR-CALDESC:Évènements pour Association MégaNéo
REFRESH-INTERVAL;VALUE=DURATION:PT1H
X-Robots-Tag:noindex
X-PUBLISHED-TTL:PT1H
BEGIN:VTIMEZONE
TZID:Europe/Paris
BEGIN:DAYLIGHT
TZOFFSETFROM:+0100
TZOFFSETTO:+0200
TZNAME:CEST
DTSTART:20170326T010000
END:DAYLIGHT
BEGIN:STANDARD
TZOFFSETFROM:+0200
TZOFFSETTO:+0100
TZNAME:CET
DTSTART:20171029T010000
END:STANDARD
BEGIN:DAYLIGHT
TZOFFSETFROM:+0100
TZOFFSETTO:+0200
TZNAME:CEST
DTSTART:20180325T010000
END:DAYLIGHT
BEGIN:STANDARD
TZOFFSETFROM:+0200
TZOFFSETTO:+0100
TZNAME:CET
DTSTART:20181028T010000
END:STANDARD
BEGIN:DAYLIGHT
TZOFFSETFROM:+0100
TZOFFSETTO:+0200
TZNAME:CEST
DTSTART:20190331T010000
END:DAYLIGHT
BEGIN:STANDARD
TZOFFSETFROM:+0200
TZOFFSETTO:+0100
TZNAME:CET
DTSTART:20191027T010000
END:STANDARD
BEGIN:DAYLIGHT
TZOFFSETFROM:+0100
TZOFFSETTO:+0200
TZNAME:CEST
DTSTART:20200329T010000
END:DAYLIGHT
BEGIN:STANDARD
TZOFFSETFROM:+0200
TZOFFSETTO:+0100
TZNAME:CET
DTSTART:20201025T010000
END:STANDARD
END:VTIMEZONE
BEGIN:VEVENT
DTSTART;TZID=Europe/Paris:20181213T090000
DTEND;TZID=Europe/Paris:20190223T180000
DTSTAMP:20260426T003006
CREATED:20190211T155415Z
LAST-MODIFIED:20190211T155415Z
UID:1593-1544691600-1550944800@www.meganeo.fr
SUMMARY:Exposition "Terre néolithique" à Villeneuve-Tolosane (Haute-Garonne)
DESCRIPTION:L’exposition revient sur le site archéologique néolithique de Villeneuve-Tolosane / Cugnaux en portant un regard poétique sur ces objets et en y associant des œuvres d’art moderne et contemporain des collections des Abattoirs\, et notamment du fonds Daniel Cordier. \nLe site archéologique néolithique de Villeneuve-Tolosane et de Cugnaux est d’un intérêt majeur pour la connaissance des premiers agriculteurs du sud-ouest de la France\, il y a 6 500 ans. Les vestiges mis au jour depuis 1945\, au rythme de l’urbanisation et de l’évolution des pratiques archéologiques constituent un ensemble exceptionnel. La qualité et la quantité des objets découverts sur le site est conséquente et remarquable ; ils sont conservés au service régional de l’archéologie de la Drac Occitanie et rarement présentés au public. \nL’exposition Terre néolithique revient sur ce patrimoine préhistorique en portant un regard poétique sur ces objets en y associant des œuvres d’art modernes et contemporaines des collections des Abattoirs\, et notamment du fonds Daniel Cordier. Ce grand donateur du musée a en effet construit sa collection dans le décloisonnement esthétique et historique en réunissant des œuvres et des objets de toutes époques et de diverses civilisations\, pour « libérer » les objets et révéler de nouveaux sens. En proposant de nouvelles proximités archéologiques et contemporaines\, Terre néolithique à Villeneuve-Tolosane est dans ce sillon. \nLe site archéologique néolithique de Villeneuve-Tolosane et de Cugnaux est d’un intérêt majeur pour la connaissance des premiers agriculteurs du sud-ouest de la France\, il y a 6 500 ans. Les vestiges mis au jour depuis 1945\, au rythme de l’urbanisation et de l’évolution des pratiques archéologiques constituent un ensemble exceptionnel. La qualité et la quantité des objets découverts sur le site est conséquente et remarquable ; ils sont conservés au service régional de l’archéologie de la Drac Occitanie et rarement présentés au public. \nL’exposition Terre néolithique revient sur ce patrimoine préhistorique en portant un regard poétique sur ces objets en y associant des œuvres d’art modernes et contemporaines des collections des Abattoirs\, et notamment du fonds Daniel Cordier. Ce grand donateur du musée a en effet construit sa collection dans le décloisonnement esthétique et historique en réunissant des œuvres et des objets de toutes époques et de diverses civilisations\, pour « libérer » les objets et révéler de nouveaux sens. En proposant de nouvelles proximités archéologiques et contemporaines\, Terre néolithique à Villeneuve-Tolosane est dans ce sillon. \n  \nAutres rendez-vous en lien avec cette exposition : \nSamedi 26 janvier : Parcours en bus\, visites commentées des expositions\n14h : Le Majorat\, Villeneuve-Tolosane\n16h : Musée des Abattoirs\, Toulouse\nRenseignements et réservation obligatoire : Tél : 05 62 20 77 10 – artsvisuels@villeneuve-tolosane.fr \nSamedi 16 février à 15h : Conférence « Le Chasséen méridional » par Muriel Gandelin\, chargée de recherche\, responsable d’opérations INRAP\, membre de l’UMR Traces 5608 / Le Majorat\, Villeneuve-Tolosane \n  \nAvec Sophie Boursat\, Brassaï\, Dado\, Mark Dion\, Georgik…\nCollections : Centre Georges Pompidou\, Mnam/Cci\, Paris – les Abattoirs\, Musée – Frac Occitanie Toulouse – Service régional de l’archéologie\, Drac Occitanie.\nCommissariat : les Abattoirs et le Service régional de l’archéologie\, Drac Occitanie
URL:https://www.meganeo.fr/activite/exposition-terre-neolithique-a-villeneuve-tolosane-haute-garonne/
LOCATION:Galerie Le Majorat\, 3 Boulevard des Écoles\, Villeneuve-Tolosane\, Occitanie\, 31270
CATEGORIES:Conférence,Exposition
ATTACH;FMTTYPE=image/jpeg:https://www.meganeo.fr/wp-content/uploads/Gabari-Event-12.jpg
END:VEVENT
END:VCALENDAR