BEGIN:VCALENDAR
VERSION:2.0
PRODID:-//Association MégaNéo - ECPv6.15.17.1//NONSGML v1.0//EN
CALSCALE:GREGORIAN
METHOD:PUBLISH
X-ORIGINAL-URL:https://www.meganeo.fr
X-WR-CALDESC:Évènements pour Association MégaNéo
REFRESH-INTERVAL;VALUE=DURATION:PT1H
X-Robots-Tag:noindex
X-PUBLISHED-TTL:PT1H
BEGIN:VTIMEZONE
TZID:Europe/Paris
BEGIN:DAYLIGHT
TZOFFSETFROM:+0100
TZOFFSETTO:+0200
TZNAME:CEST
DTSTART:20160327T010000
END:DAYLIGHT
BEGIN:STANDARD
TZOFFSETFROM:+0200
TZOFFSETTO:+0100
TZNAME:CET
DTSTART:20161030T010000
END:STANDARD
BEGIN:DAYLIGHT
TZOFFSETFROM:+0100
TZOFFSETTO:+0200
TZNAME:CEST
DTSTART:20170326T010000
END:DAYLIGHT
BEGIN:STANDARD
TZOFFSETFROM:+0200
TZOFFSETTO:+0100
TZNAME:CET
DTSTART:20171029T010000
END:STANDARD
BEGIN:DAYLIGHT
TZOFFSETFROM:+0100
TZOFFSETTO:+0200
TZNAME:CEST
DTSTART:20180325T010000
END:DAYLIGHT
BEGIN:STANDARD
TZOFFSETFROM:+0200
TZOFFSETTO:+0100
TZNAME:CET
DTSTART:20181028T010000
END:STANDARD
END:VTIMEZONE
BEGIN:VEVENT
DTSTART;TZID=Europe/Paris:20171014T100000
DTEND;TZID=Europe/Paris:20171015T180000
DTSTAMP:20260425T212123
CREATED:20171008T073753Z
LAST-MODIFIED:20201011T195751Z
UID:229-1507975200-1508090400@www.meganeo.fr
SUMMARY:NéOdyssée\, l'Odyssée du Néolithique en Pays Loudunais et Thouarsais (Vienne et Deux-Sèvres)
DESCRIPTION:L’association MégaNéo est partenaire de ces fêtes néolithiques organisées par la Communauté de communes du Pays Loudunais et du Thouarsais\, la ville de Loudun et les associations. \nProgramme du samedi 14 octobre (Loudun\, Vienne)\n \n\n9h00-11h45 • Site du Pé de Jojo (Véniers)\nRendez-vous de bonne heure pour chausser les bottes de l’archéologue ! Au programme\, une prospection de surface à la recherche de vestiges du Néolithique\, et la visite inédite d’un site d’alignement mégalithique qui n’a pas encore livré tous ses mystères…\nAvec Marlène Mazière (DRAC Nouvelle Aquitaine – site de Poitiers)\, l’archéologue Emmanuel Mens (ArchéoAtlantica\, 44) et le géologue Didier Poncet (Centre d’Interprétation Géologique du Thouarsais).\n14h00 – 18h00 • Musée Charbonneau-Lassay\nLancement officiel du week-end autour d’un café gourmand et inauguration de l’exposition « Collections Particulières ». Plus de deux cents objets néolithiques loudunais\, propriétés de collectionneurs privés\, sont regroupés pour la première fois.\nMusée Charbonneau-Lassay\, 24 rue du Martray / Exposition visible jusqu’au 17 décembre / Tous publics\n15h30 – 16h45 • Cinéma le Cornay\nLa « révolution néolithique » ne s’est pas faite en un jour ! Jean Guilaine\, Professeur honoraire au Collège de France (Paris)\, nous raconte « La diffusion et l’évolution du Néolithique en Méditerranée ».\nCinéma Le Cornay\, 13 rue de l’Abreuvoir\n17h00 – 18h00 • Jardins du cinéma\nPause musicale et gourmande avec Frat’Air. Les deux frères Pays ne manquent pas d’airs néos : didgeridoo\, percussions primitives sur terre cuite et pierres sonores.\nDégustation de produits du terroir.\nJardins du cinéma Cornay\, 15 rue de l’abreuvoir\n18h15 – 19h45 • Cinéma le Cornay\nPlace à la discussion ! Grâce à deux épisodes de la série documentaire Sur Nos Traces\, et aux archéologues Vincent Ard et Emmanuel Mens\, nous sommes invités à comprendre ce qui a pu pousser nos ancêtres à ériger les mégalithes…\nMême lieu / Tous publics / Avec l’autorisation d’Agnès Molia et la production TSVP.\n\nProgramme du dimanche 15 octobre (Thouars\, Deux-Sèvres)\n \n\n9h30 – 12h00 • Taizé\nChaussez vos bottes de sept lieues et sautez la butte de Moncoué\, tel Gargantua\, pour atteindre la nécropole de Monpalais.\nRandonnée pédestre (7-8 km) animée par Didier Poncet\, géologue.\nRendez-vous à la chapelle de Maranzais – Taizé\n14h00 – 18h00 • Hôtel Tyndo\nVoyagez à travers la Préhistoire en vous plongeant dans les planches originales de BD d’Alain Vigneron (Saint-Jean-de-Thouars).\nExposition et séance de dédicace.\nConservatoire de musiques et de danses\, 6 rue du Président Tyndo\n15h30 – 17h00 • Hôtel Tyndo\nVous souhaitez comprendre comment les archéologues peuvent reconstituer notre passé grâce à une technologie de pointe ?\nAssistez à la conférence « Les méthodes géophysiques au service de la connaissance des sites néolithiques du Nord Poitou » animée par Vincent Ard\, archéologue (CNRS\, Université de Toulouse) avec la participation de Vivien Mathé\, géophysicien (Université de La Rochelle) et de Victor Legrand\, doctorant (Université de Toulouse).\nSalle Jacques Barathon / Conservatoire de musiques et de danses\n17h00 • Pot de clôture\n\nTélécharger le programme
URL:https://www.meganeo.fr/activite/neodyssee-lodyssee-du-neolithique-en-pays-loudunais-les-fetes-neolithiques-darcay-86/
CATEGORIES:Conférence,Exposition,Visite
ATTACH;FMTTYPE=image/jpeg:https://www.meganeo.fr/wp-content/uploads/Néodyssée-2017-bandeau.jpg
END:VEVENT
END:VCALENDAR