BEGIN:VCALENDAR
VERSION:2.0
PRODID:-//Association MégaNéo - ECPv6.15.17.1//NONSGML v1.0//EN
CALSCALE:GREGORIAN
METHOD:PUBLISH
X-ORIGINAL-URL:https://www.meganeo.fr
X-WR-CALDESC:Évènements pour Association MégaNéo
REFRESH-INTERVAL;VALUE=DURATION:PT1H
X-Robots-Tag:noindex
X-PUBLISHED-TTL:PT1H
BEGIN:VTIMEZONE
TZID:Europe/Paris
BEGIN:DAYLIGHT
TZOFFSETFROM:+0100
TZOFFSETTO:+0200
TZNAME:CEST
DTSTART:20170326T010000
END:DAYLIGHT
BEGIN:STANDARD
TZOFFSETFROM:+0200
TZOFFSETTO:+0100
TZNAME:CET
DTSTART:20171029T010000
END:STANDARD
BEGIN:DAYLIGHT
TZOFFSETFROM:+0100
TZOFFSETTO:+0200
TZNAME:CEST
DTSTART:20180325T010000
END:DAYLIGHT
BEGIN:STANDARD
TZOFFSETFROM:+0200
TZOFFSETTO:+0100
TZNAME:CET
DTSTART:20181028T010000
END:STANDARD
BEGIN:DAYLIGHT
TZOFFSETFROM:+0100
TZOFFSETTO:+0200
TZNAME:CEST
DTSTART:20190331T010000
END:DAYLIGHT
BEGIN:STANDARD
TZOFFSETFROM:+0200
TZOFFSETTO:+0100
TZNAME:CET
DTSTART:20191027T010000
END:STANDARD
END:VTIMEZONE
BEGIN:VEVENT
DTSTART;TZID=Europe/Paris:20180922T103000
DTEND;TZID=Europe/Paris:20180923T190000
DTSTAMP:20260425T024515
CREATED:20180324T170331Z
LAST-MODIFIED:20180910T114644Z
UID:1014-1537612200-1537729200@www.meganeo.fr
SUMMARY:XXVIIèmes Rencontres archéologiques de Saint-Céré (Lot)
DESCRIPTION:Les XXVIIèmes Rencontres archéologiques de Saint-Céré se dérouleront sur deux jours\, l’un sera consacré à l’actualité et la recherche archéologique à travers de nombreuses conférences\, l’autre à la visite du Souillac archéologique et à l’archéologie expérimentale.\nA l’occasion\, Vincent Ard\, Emmanuel Mens et Sarah Boscus présenteront « Les dolmens quercynois: nouvelles données\, nouvelles approches ». \nDécouvrez le programme
URL:https://www.meganeo.fr/activite/xxviiemes-rencontres-archeologiques-de-saint-cere/
LOCATION:Auditorium de Saint-Céré\, 111 Avenue Jean Moulierat\, Saint-Céré\, 46400\, France
CATEGORIES:Conférence,Visite
ATTACH;FMTTYPE=image/jpeg:https://www.meganeo.fr/wp-content/uploads/Gabari-Event-3.jpg
END:VEVENT
BEGIN:VEVENT
DTSTART;TZID=Europe/Paris:20180927T193000
DTEND;TZID=Europe/Paris:20180927T200000
DTSTAMP:20260425T024515
CREATED:20180924T125535Z
LAST-MODIFIED:20180925T064953Z
UID:1398-1538076600-1538078400@www.meganeo.fr
SUMMARY:Les dolmens et le Néolithique en Languedoc et en Roussillon
DESCRIPTION:Nous croyons tout savoir sur ces tombeaux mégalithiques qui jalonnent les paysages. Nous sommes en réalité bien loin d’en avoir percé tous les mystères ! Nos recherches de thèse se sont orientées vers l’étude des tumulus\, ces architectures de pierre et de terre\, qui enserrent les chambres mégalithiques. Ces nouvelles informations permettent de s’interroger sur les fonctions multiples qu’ont pu avoir ces monuments pour les sociétés agropastorales de la fin du Néolithique et du début de l’âge du Bronze\, en Languedoc et en Roussillon. \nConférence animé par Noisette Bec-Drelon (Docteur en Préhistoire associé à l’UMR 7269 – LAMPEA (Aix-Marseille Université) et l’UMR 7044 – Archimède (Université de Strasbourg). \nRenseignements : 04 67 18 68 18
URL:https://www.meganeo.fr/activite/les-dolmens-et-le-neolithique-en-languedoc-et-en-roussillon/
LOCATION:Musée Gallo\, Loupian\, RD 158 E4\, Loupian\, Occitanie\, 34140\, France
CATEGORIES:Conférence
END:VEVENT
END:VCALENDAR