BEGIN:VCALENDAR
VERSION:2.0
PRODID:-//Association MégaNéo - ECPv6.15.17.1//NONSGML v1.0//EN
CALSCALE:GREGORIAN
METHOD:PUBLISH
X-WR-CALNAME:Association MégaNéo
X-ORIGINAL-URL:https://www.meganeo.fr
X-WR-CALDESC:Évènements pour Association MégaNéo
REFRESH-INTERVAL;VALUE=DURATION:PT1H
X-Robots-Tag:noindex
X-PUBLISHED-TTL:PT1H
BEGIN:VTIMEZONE
TZID:Europe/Paris
BEGIN:DAYLIGHT
TZOFFSETFROM:+0100
TZOFFSETTO:+0200
TZNAME:CEST
DTSTART:20180325T010000
END:DAYLIGHT
BEGIN:STANDARD
TZOFFSETFROM:+0200
TZOFFSETTO:+0100
TZNAME:CET
DTSTART:20181028T010000
END:STANDARD
BEGIN:DAYLIGHT
TZOFFSETFROM:+0100
TZOFFSETTO:+0200
TZNAME:CEST
DTSTART:20190331T010000
END:DAYLIGHT
BEGIN:STANDARD
TZOFFSETFROM:+0200
TZOFFSETTO:+0100
TZNAME:CET
DTSTART:20191027T010000
END:STANDARD
BEGIN:DAYLIGHT
TZOFFSETFROM:+0100
TZOFFSETTO:+0200
TZNAME:CEST
DTSTART:20200329T010000
END:DAYLIGHT
BEGIN:STANDARD
TZOFFSETFROM:+0200
TZOFFSETTO:+0100
TZNAME:CET
DTSTART:20201025T010000
END:STANDARD
END:VTIMEZONE
BEGIN:VEVENT
DTSTART;TZID=Europe/Paris:20190824T190000
DTEND;TZID=Europe/Paris:20190824T210000
DTSTAMP:20260424T094629
CREATED:20190624T124249Z
LAST-MODIFIED:20190624T124249Z
UID:1923-1566673200-1566680400@www.meganeo.fr
SUMMARY:Conférence et projection de la "rétrospective des fouilles archéologiques de 2018"
DESCRIPTION:Après une visite des tumulus de Tusson\, une conférence se tiendra à la Maison du Patrimoine de Tusson. Ce sera l’occasion pour l’archéologue Vincent Ard de présenter les découvertes de ce mois d’août 2019. La possibilité sera aussi donner pour ceux qui le peuvent de suivre la projection de la « Rétrospective des fouilles archéologiques de 2018 »\, présenté par Fabrice Re. Le rendez-vous est donné à 18h à la Maison du Patrimoine. \nRenseignement à la Maison du Patrimoine : 05 45 31 17 47
URL:https://www.meganeo.fr/activite/conference-et-projection-de-la-retrospective-des-fouilles-archeologiques-de-2018/
LOCATION:Maison du Patrimoine\, Tusson\, 4 Route d'Aigre\, Tusson\, Nouvelle-Aquitaine\, 16140\, France
CATEGORIES:Conférence
ATTACH;FMTTYPE=image/jpeg:https://www.meganeo.fr/wp-content/uploads/2019_08-Evenement_Ruffecois_CONF.jpg
END:VEVENT
END:VCALENDAR