BEGIN:VCALENDAR
VERSION:2.0
PRODID:-//Association MégaNéo - ECPv6.15.17.1//NONSGML v1.0//EN
CALSCALE:GREGORIAN
METHOD:PUBLISH
X-ORIGINAL-URL:https://www.meganeo.fr
X-WR-CALDESC:Évènements pour Association MégaNéo
REFRESH-INTERVAL;VALUE=DURATION:PT1H
X-Robots-Tag:noindex
X-PUBLISHED-TTL:PT1H
BEGIN:VTIMEZONE
TZID:Europe/Paris
BEGIN:DAYLIGHT
TZOFFSETFROM:+0100
TZOFFSETTO:+0200
TZNAME:CEST
DTSTART:20220327T010000
END:DAYLIGHT
BEGIN:STANDARD
TZOFFSETFROM:+0200
TZOFFSETTO:+0100
TZNAME:CET
DTSTART:20221030T010000
END:STANDARD
BEGIN:DAYLIGHT
TZOFFSETFROM:+0100
TZOFFSETTO:+0200
TZNAME:CEST
DTSTART:20230326T010000
END:DAYLIGHT
BEGIN:STANDARD
TZOFFSETFROM:+0200
TZOFFSETTO:+0100
TZNAME:CET
DTSTART:20231029T010000
END:STANDARD
BEGIN:DAYLIGHT
TZOFFSETFROM:+0100
TZOFFSETTO:+0200
TZNAME:CEST
DTSTART:20240331T010000
END:DAYLIGHT
BEGIN:STANDARD
TZOFFSETFROM:+0200
TZOFFSETTO:+0100
TZNAME:CET
DTSTART:20241027T010000
END:STANDARD
END:VTIMEZONE
BEGIN:VEVENT
DTSTART;TZID=Europe/Paris:20230325T150000
DTEND;TZID=Europe/Paris:20230325T170000
DTSTAMP:20260421T192814
CREATED:20230305T092129Z
LAST-MODIFIED:20230305T092146Z
UID:2950-1679756400-1679763600@www.meganeo.fr
SUMMARY:Apport de la cartographie magnétiqueaux enceintes Néolithiques du Poitou-Charentes
DESCRIPTION:Le 25 mars\, venez assister à une conférence sur les enceintes néolithiques prospectées par méthode magnétique à la Rochelle-Pallice. \nEntrée gratuite \n 
URL:https://www.meganeo.fr/activite/apport-de-la-cartographie-magnetiqueaux-enceintes-neolithiques-du-poitou-charentes/
CATEGORIES:Conférence
ATTACH;FMTTYPE=image/jpeg:https://www.meganeo.fr/wp-content/uploads/Prete-2023-03-25-Conference-de-Guillaume-BRUNIAUX-a-La-Pallice.jpg
END:VEVENT
END:VCALENDAR