BEGIN:VCALENDAR
VERSION:2.0
PRODID:-//Association MégaNéo - ECPv6.15.17.1//NONSGML v1.0//EN
CALSCALE:GREGORIAN
METHOD:PUBLISH
X-WR-CALNAME:Association MégaNéo
X-ORIGINAL-URL:https://www.meganeo.fr
X-WR-CALDESC:Évènements pour Association MégaNéo
REFRESH-INTERVAL;VALUE=DURATION:PT1H
X-Robots-Tag:noindex
X-PUBLISHED-TTL:PT1H
BEGIN:VTIMEZONE
TZID:Europe/Paris
BEGIN:DAYLIGHT
TZOFFSETFROM:+0100
TZOFFSETTO:+0200
TZNAME:CEST
DTSTART:20220327T010000
END:DAYLIGHT
BEGIN:STANDARD
TZOFFSETFROM:+0200
TZOFFSETTO:+0100
TZNAME:CET
DTSTART:20221030T010000
END:STANDARD
BEGIN:DAYLIGHT
TZOFFSETFROM:+0100
TZOFFSETTO:+0200
TZNAME:CEST
DTSTART:20230326T010000
END:DAYLIGHT
BEGIN:STANDARD
TZOFFSETFROM:+0200
TZOFFSETTO:+0100
TZNAME:CET
DTSTART:20231029T010000
END:STANDARD
BEGIN:DAYLIGHT
TZOFFSETFROM:+0100
TZOFFSETTO:+0200
TZNAME:CEST
DTSTART:20240331T010000
END:DAYLIGHT
BEGIN:STANDARD
TZOFFSETFROM:+0200
TZOFFSETTO:+0100
TZNAME:CET
DTSTART:20241027T010000
END:STANDARD
END:VTIMEZONE
BEGIN:VEVENT
DTSTART;TZID=Europe/Paris:20230512T090000
DTEND;TZID=Europe/Paris:20230512T170000
DTSTAMP:20260421T162027
CREATED:20230511T063344Z
LAST-MODIFIED:20230511T063825Z
UID:2969-1683882000-1683910800@www.meganeo.fr
SUMMARY:Journée Archéologique du Poitou et des Charentes 2023
DESCRIPTION:La Journée Archéologique du Poitou et des Charentes se déroulera le 12 mai 2023 à Poitiers. Rendez vous à la Faculté des Sciences Humaines et Arts\nAmphithéâtre Bourdieu (accès 23bis rue des Carmélites). \nLa journée se décomposera en deux temps : \n\nAG de l’AAPC à 9h15.\nConférences à partir de 10h (entrée libre) – consulter le programme
URL:https://www.meganeo.fr/activite/journee-archeologique-du-poitou-et-des-charentes-2023/
LOCATION:Université de Poitiers\, 23bis rue des Carmélites\, Poitiers\, 86000\, France
CATEGORIES:Conférence
ORGANIZER;CN="AAPC":MAILTO:aapc@free.fr
END:VEVENT
END:VCALENDAR