BEGIN:VCALENDAR
VERSION:2.0
PRODID:-//Association MégaNéo - ECPv6.15.17.1//NONSGML v1.0//EN
CALSCALE:GREGORIAN
METHOD:PUBLISH
X-ORIGINAL-URL:https://www.meganeo.fr
X-WR-CALDESC:Évènements pour Association MégaNéo
REFRESH-INTERVAL;VALUE=DURATION:PT1H
X-Robots-Tag:noindex
X-PUBLISHED-TTL:PT1H
BEGIN:VTIMEZONE
TZID:Europe/Paris
BEGIN:DAYLIGHT
TZOFFSETFROM:+0100
TZOFFSETTO:+0200
TZNAME:CEST
DTSTART:20230326T010000
END:DAYLIGHT
BEGIN:STANDARD
TZOFFSETFROM:+0200
TZOFFSETTO:+0100
TZNAME:CET
DTSTART:20231029T010000
END:STANDARD
BEGIN:DAYLIGHT
TZOFFSETFROM:+0100
TZOFFSETTO:+0200
TZNAME:CEST
DTSTART:20240331T010000
END:DAYLIGHT
BEGIN:STANDARD
TZOFFSETFROM:+0200
TZOFFSETTO:+0100
TZNAME:CET
DTSTART:20241027T010000
END:STANDARD
BEGIN:DAYLIGHT
TZOFFSETFROM:+0100
TZOFFSETTO:+0200
TZNAME:CEST
DTSTART:20250330T010000
END:DAYLIGHT
BEGIN:STANDARD
TZOFFSETFROM:+0200
TZOFFSETTO:+0100
TZNAME:CET
DTSTART:20251026T010000
END:STANDARD
END:VTIMEZONE
BEGIN:VEVENT
DTSTART;VALUE=DATE:20240529
DTEND;VALUE=DATE:20240601
DTSTAMP:20260420T194752
CREATED:20231120T085241Z
LAST-MODIFIED:20231120T085253Z
UID:3066-1716940800-1717199999@www.meganeo.fr
SUMMARY:Restauration des mégalithes : déontologie\, constats\, perspectives
DESCRIPTION:La DRAC Nouvelle-Aquitaine\, en partenariat avec l’association MégaNéo\, organise des journées d’étude autour de la restauration des mégalithes qui auront lieu à Poitiers du 29 au 31 mai 2024. \nL’inscription se fait par la plate-forme HelloAsso : \nhttps://www.helloasso.com/associations/association-meganeo/evenements/journees-d-etudes-restauration-des-megalithes \nLe programme complet des Journee d’etude : Restauration des mégalithes : déontologie\, constats\, perspectives
URL:https://www.meganeo.fr/activite/restauration-des-megalithes-deontologie-constats-perspectives/
LOCATION:Centre de conférences Grand Poitiers\, 58 boulevard du Grand Cerf\, Poitiers\, 86000\, France
CATEGORIES:Conférence
END:VEVENT
END:VCALENDAR