BEGIN:VCALENDAR
VERSION:2.0
PRODID:-//Association MégaNéo - ECPv6.15.17.1//NONSGML v1.0//EN
CALSCALE:GREGORIAN
METHOD:PUBLISH
X-ORIGINAL-URL:https://www.meganeo.fr
X-WR-CALDESC:Évènements pour Association MégaNéo
REFRESH-INTERVAL;VALUE=DURATION:PT1H
X-Robots-Tag:noindex
X-PUBLISHED-TTL:PT1H
BEGIN:VTIMEZONE
TZID:Europe/Paris
BEGIN:DAYLIGHT
TZOFFSETFROM:+0100
TZOFFSETTO:+0200
TZNAME:CEST
DTSTART:20170326T010000
END:DAYLIGHT
BEGIN:STANDARD
TZOFFSETFROM:+0200
TZOFFSETTO:+0100
TZNAME:CET
DTSTART:20171029T010000
END:STANDARD
BEGIN:DAYLIGHT
TZOFFSETFROM:+0100
TZOFFSETTO:+0200
TZNAME:CEST
DTSTART:20180325T010000
END:DAYLIGHT
BEGIN:STANDARD
TZOFFSETFROM:+0200
TZOFFSETTO:+0100
TZNAME:CET
DTSTART:20181028T010000
END:STANDARD
BEGIN:DAYLIGHT
TZOFFSETFROM:+0100
TZOFFSETTO:+0200
TZNAME:CEST
DTSTART:20190331T010000
END:DAYLIGHT
BEGIN:STANDARD
TZOFFSETFROM:+0200
TZOFFSETTO:+0100
TZNAME:CET
DTSTART:20191027T010000
END:STANDARD
END:VTIMEZONE
BEGIN:VEVENT
DTSTART;TZID=Europe/Paris:20180809T180000
DTEND;TZID=Europe/Paris:20180809T193000
DTSTAMP:20260426T032807
CREATED:20180621T091813Z
LAST-MODIFIED:20180621T091813Z
UID:1289-1533837600-1533843000@www.meganeo.fr
SUMMARY:Visites guidées du chantier de fouilles des dolmens des Bourriges\, Fouqueure (Charente)
DESCRIPTION:Venez suivre en direct les évolutions et découvertes des chantiers de fouilles des sites néolithiques du Ruffécois avec les archéologues. \nCe monument composé d’un cairn à deux tombes à couloir a déjà été exploré en 1880 par des membres de la Société archéologique de la Charente (Lièvre et Chauvet notamment). À cette occasion\, de nombreux ossements humains ont été trouvés\, ainsi que des outils en silex et des vases entiers. L’étude architecturale réalisée en 2017 par Emmanuel Mens\, a permis de mettre en évidence les choix des bâtisseurs pour la construction des chambres funéraires\, ainsi qu’une très bonne conservation des deux cairns entourant les dolmens. \nL’opération de 2018 aura pour objectif de revenir sur les zones d’ombres qui n’avait pus être exploré l’année dernière comme l’architecture des cairns et des systèmes d’accès aux chambres mégalithiques. \nLes jeudi 9\, 16 et 23 août à 17 heures \nVisite du chantier de fouilles par l’archéologue Emmanuel Mens \nInscriptions à l’Office de Tourisme du Pays du Ruffécois : 05 45 20 39 91 ou 05 45 31 05 42
URL:https://www.meganeo.fr/activite/visites-guidees-du-chantier-de-fouilles-des-dolmens-des-bourriges-fouqueure-charente-4/
LOCATION:Bourriges\, Fouqueure\, Champs de la Terne\, Fouqueure\, Nouvelle-Aquitaine\, 16140\, France
CATEGORIES:Visite
ATTACH;FMTTYPE=image/jpeg:https://www.meganeo.fr/wp-content/uploads/Gabari-Event-6-2.jpg
END:VEVENT
BEGIN:VEVENT
DTSTART;TZID=Europe/Paris:20180816T180000
DTEND;TZID=Europe/Paris:20180816T193000
DTSTAMP:20260426T032807
CREATED:20180621T091805Z
LAST-MODIFIED:20180621T091805Z
UID:1291-1534442400-1534447800@www.meganeo.fr
SUMMARY:Visites guidées du chantier de fouilles des dolmens des Bourriges\, Fouqueure (Charente)
DESCRIPTION:Venez suivre en direct les évolutions et découvertes des chantiers de fouilles des sites néolithiques du Ruffécois avec les archéologues. \nCe monument composé d’un cairn à deux tombes à couloir a déjà été exploré en 1880 par des membres de la Société archéologique de la Charente (Lièvre et Chauvet notamment). À cette occasion\, de nombreux ossements humains ont été trouvés\, ainsi que des outils en silex et des vases entiers. L’étude architecturale réalisée en 2017 par Emmanuel Mens\, a permis de mettre en évidence les choix des bâtisseurs pour la construction des chambres funéraires\, ainsi qu’une très bonne conservation des deux cairns entourant les dolmens. \nL’opération de 2018 aura pour objectif de revenir sur les zones d’ombres qui n’avait pus être exploré l’année dernière comme l’architecture des cairns et des systèmes d’accès aux chambres mégalithiques. \nLes jeudi 9\, 16 et 23 août à 17 heures \nVisite du chantier de fouilles par l’archéologue Emmanuel Mens \nInscriptions à l’Office de Tourisme du Pays du Ruffécois : 05 45 20 39 91 ou 05 45 31 05 42
URL:https://www.meganeo.fr/activite/visites-guidees-du-chantier-de-fouilles-des-dolmens-des-bourriges-fouqueure-charente-3/
LOCATION:Bourriges\, Fouqueure\, Champs de la Terne\, Fouqueure\, Nouvelle-Aquitaine\, 16140\, France
CATEGORIES:Visite
ATTACH;FMTTYPE=image/jpeg:https://www.meganeo.fr/wp-content/uploads/Gabari-Event-6-2.jpg
END:VEVENT
BEGIN:VEVENT
DTSTART;TZID=Europe/Paris:20180823T180000
DTEND;TZID=Europe/Paris:20180823T193000
DTSTAMP:20260426T032807
CREATED:20180620T133709Z
LAST-MODIFIED:20180621T091721Z
UID:1293-1535047200-1535052600@www.meganeo.fr
SUMMARY:Visites guidées du chantier de fouilles des dolmens des Bourriges\, Fouqueure (Charente)
DESCRIPTION:Venez suivre en direct les évolutions et découvertes des chantiers de fouilles des sites néolithiques du Ruffécois avec les archéologues. \nCe monument composé d’un cairn à deux tombes à couloir a déjà été exploré en 1880 par des membres de la Société archéologique de la Charente (Lièvre et Chauvet notamment). À cette occasion\, de nombreux ossements humains ont été trouvés\, ainsi que des outils en silex et des vases entiers. L’étude architecturale réalisée en 2017 par Emmanuel Mens\, a permis de mettre en évidence les choix des bâtisseurs pour la construction des chambres funéraires\, ainsi qu’une très bonne conservation des deux cairns entourant les dolmens. \nL’opération de 2018 aura pour objectif de revenir sur les zones d’ombres qui n’avait pus être exploré l’année dernière comme l’architecture des cairns et des systèmes d’accès aux chambres mégalithiques. \nLes jeudi 9\, 16 et 23 août à 17 heures \nVisite du chantier de fouilles par l’archéologue Emmanuel Mens \nInscriptions à l’Office de Tourisme du Pays du Ruffécois : 05 45 20 39 91 ou 05 45 31 05 42
URL:https://www.meganeo.fr/activite/visites-guidees-du-chantier-de-fouilles-des-dolmens-des-bourriges-fouqueure-charente-2/
LOCATION:Bourriges\, Fouqueure\, Champs de la Terne\, Fouqueure\, Nouvelle-Aquitaine\, 16140\, France
CATEGORIES:Visite
ATTACH;FMTTYPE=image/jpeg:https://www.meganeo.fr/wp-content/uploads/Gabari-Event-6-2.jpg
END:VEVENT
END:VCALENDAR