BEGIN:VCALENDAR
VERSION:2.0
PRODID:-//Association MégaNéo - ECPv6.15.17.1//NONSGML v1.0//EN
CALSCALE:GREGORIAN
METHOD:PUBLISH
X-WR-CALNAME:Association MégaNéo
X-ORIGINAL-URL:https://www.meganeo.fr
X-WR-CALDESC:Évènements pour Association MégaNéo
REFRESH-INTERVAL;VALUE=DURATION:PT1H
X-Robots-Tag:noindex
X-PUBLISHED-TTL:PT1H
BEGIN:VTIMEZONE
TZID:Europe/Paris
BEGIN:DAYLIGHT
TZOFFSETFROM:+0100
TZOFFSETTO:+0200
TZNAME:CEST
DTSTART:20210328T010000
END:DAYLIGHT
BEGIN:STANDARD
TZOFFSETFROM:+0200
TZOFFSETTO:+0100
TZNAME:CET
DTSTART:20211031T010000
END:STANDARD
BEGIN:DAYLIGHT
TZOFFSETFROM:+0100
TZOFFSETTO:+0200
TZNAME:CEST
DTSTART:20220327T010000
END:DAYLIGHT
BEGIN:STANDARD
TZOFFSETFROM:+0200
TZOFFSETTO:+0100
TZNAME:CET
DTSTART:20221030T010000
END:STANDARD
BEGIN:DAYLIGHT
TZOFFSETFROM:+0100
TZOFFSETTO:+0200
TZNAME:CEST
DTSTART:20230326T010000
END:DAYLIGHT
BEGIN:STANDARD
TZOFFSETFROM:+0200
TZOFFSETTO:+0100
TZNAME:CET
DTSTART:20231029T010000
END:STANDARD
END:VTIMEZONE
BEGIN:VEVENT
DTSTART;TZID=Europe/Paris:20221127T153000
DTEND;TZID=Europe/Paris:20221127T170000
DTSTAMP:20260422T184726
CREATED:20221105T141807Z
LAST-MODIFIED:20221105T141958Z
UID:2872-1669563000-1669568400@www.meganeo.fr
SUMMARY:A la découverte des dolmens du Quercy
DESCRIPTION:Retrouvez autour d’un café le 27 novembre Vincent Ard\, chargé de recherche au CNRS au musée de l’homme de Néandertal situé à la Chapelle aux Saints en Corrèze. Une conférence sera proposée sur le thème des dolmens du Quercy.
URL:https://www.meganeo.fr/activite/a-la-decouverte-des-dolmens-du-quercy/
LOCATION:Musée de l’homme Néandertal\, Sourdoire\, La chapelle aux Saint\, 19120
CATEGORIES:Conférence
ATTACH;FMTTYPE=image/png:https://www.meganeo.fr/wp-content/uploads/cafe-prehistoire-271122-dolmens-quercy.png
END:VEVENT
END:VCALENDAR