BEGIN:VCALENDAR
VERSION:2.0
PRODID:-//Association MégaNéo - ECPv6.15.17.1//NONSGML v1.0//EN
CALSCALE:GREGORIAN
METHOD:PUBLISH
X-ORIGINAL-URL:https://www.meganeo.fr
X-WR-CALDESC:Évènements pour Association MégaNéo
REFRESH-INTERVAL;VALUE=DURATION:PT1H
X-Robots-Tag:noindex
X-PUBLISHED-TTL:PT1H
BEGIN:VTIMEZONE
TZID:Europe/Paris
BEGIN:DAYLIGHT
TZOFFSETFROM:+0100
TZOFFSETTO:+0200
TZNAME:CEST
DTSTART:20200329T010000
END:DAYLIGHT
BEGIN:STANDARD
TZOFFSETFROM:+0200
TZOFFSETTO:+0100
TZNAME:CET
DTSTART:20201025T010000
END:STANDARD
BEGIN:DAYLIGHT
TZOFFSETFROM:+0100
TZOFFSETTO:+0200
TZNAME:CEST
DTSTART:20210328T010000
END:DAYLIGHT
BEGIN:STANDARD
TZOFFSETFROM:+0200
TZOFFSETTO:+0100
TZNAME:CET
DTSTART:20211031T010000
END:STANDARD
BEGIN:DAYLIGHT
TZOFFSETFROM:+0100
TZOFFSETTO:+0200
TZNAME:CEST
DTSTART:20220327T010000
END:DAYLIGHT
BEGIN:STANDARD
TZOFFSETFROM:+0200
TZOFFSETTO:+0100
TZNAME:CET
DTSTART:20221030T010000
END:STANDARD
END:VTIMEZONE
BEGIN:VEVENT
DTSTART;VALUE=DATE:20211022
DTEND;VALUE=DATE:20211023
DTSTAMP:20260423T164853
CREATED:20211001T124859Z
LAST-MODIFIED:20211001T124859Z
UID:2588-1634860800-1634947199@www.meganeo.fr
SUMMARY:Nouvelles méthodes d’analyse par Imagerie 3D et IA appliquées aux vestiges préhistoriques et protohistoriques
DESCRIPTION:Le séminaire Nouvelles méthodes d’analyse par Imagerie 3D et IA appliquées aux vestiges préhistoriques et protohistoriques propose un premier partage d’expériences sur les travaux l’Intelligence Artificielle actuellement menés en France et en Europe. Le séminaire sera l’occasion d‘une rencontre interdisciplinaire entre chercheur.e.s et étudiant.e.s autour de thématiques de recherche innovantes. \nUne présentation menée dans le cadre de l’ANR Monumen sera réalisée par Vincent Ard et Antoine Laurent : De la détection à l’analyse des sites monumentaux néolithiques en volume : premiers résultats de l’ANR Monumen 
URL:https://www.meganeo.fr/activite/nouvelles-methodes-danalyse-par-imagerie-3d-et-ia-appliquees-aux-vestiges-prehistoriques-et-protohistoriques/
CATEGORIES:Conférence
END:VEVENT
END:VCALENDAR