BEGIN:VCALENDAR
VERSION:2.0
PRODID:-//Association MégaNéo - ECPv6.15.17.1//NONSGML v1.0//EN
CALSCALE:GREGORIAN
METHOD:PUBLISH
X-WR-CALNAME:Association MégaNéo
X-ORIGINAL-URL:https://www.meganeo.fr
X-WR-CALDESC:Évènements pour Association MégaNéo
REFRESH-INTERVAL;VALUE=DURATION:PT1H
X-Robots-Tag:noindex
X-PUBLISHED-TTL:PT1H
BEGIN:VTIMEZONE
TZID:Europe/Paris
BEGIN:DAYLIGHT
TZOFFSETFROM:+0100
TZOFFSETTO:+0200
TZNAME:CEST
DTSTART:20180325T010000
END:DAYLIGHT
BEGIN:STANDARD
TZOFFSETFROM:+0200
TZOFFSETTO:+0100
TZNAME:CET
DTSTART:20181028T010000
END:STANDARD
BEGIN:DAYLIGHT
TZOFFSETFROM:+0100
TZOFFSETTO:+0200
TZNAME:CEST
DTSTART:20190331T010000
END:DAYLIGHT
BEGIN:STANDARD
TZOFFSETFROM:+0200
TZOFFSETTO:+0100
TZNAME:CET
DTSTART:20191027T010000
END:STANDARD
BEGIN:DAYLIGHT
TZOFFSETFROM:+0100
TZOFFSETTO:+0200
TZNAME:CEST
DTSTART:20200329T010000
END:DAYLIGHT
BEGIN:STANDARD
TZOFFSETFROM:+0200
TZOFFSETTO:+0100
TZNAME:CET
DTSTART:20201025T010000
END:STANDARD
END:VTIMEZONE
BEGIN:VEVENT
DTSTART;TZID=Europe/Paris:20190418T200000
DTEND;TZID=Europe/Paris:20190418T223000
DTSTAMP:20260424T004910
CREATED:20190403T082111Z
LAST-MODIFIED:20190403T082111Z
UID:1767-1555617600-1555626600@www.meganeo.fr
SUMMARY:Conférence: Sexe\, Genre et Archéologie
DESCRIPTION:L’Aparea UT2J vous propose une série de conférences et débat autour de la thématique « Sexe\, genre et archéologie » : Le genre comme outil d’analyse et comme filtre dans notre conception des sociétés passées. \nProgramme : \n\n19h / Anne Augereau – « L’organisation sociale dans le néolithique européen : les apports d’une étude du genre »\n19h25 / Sébastien Villote – « La division sexuelle du travail en préhistoire : regards d’anthropobiologistes »\n19h50 / Esther López Montalvo – « Appréhender la construction du genre dans les sociétés préhistoriques par leurs images : les apports de l’art levantin »\n20h15 / Sandra Péré-Nogues – « Pour un autre regard sur les sociétés de l’Antiquité : le genre en histoire et en archéologie »\n\n20h40 / Anick Coudart – Synthèse comparative sur les différences d’approche entre France et État-Unis\n21h / Débat libre\n\n  \nPossibilité d’adhérer à l’Aparea UT2J sur place. \nAccès :\nMétro – Ligne A\, arrêt « Capitole »\nBus – Navette Centre-Ville\, arrêt « Rémusat »\n50 places disponibles dans l’ordre d’arrivée (pas de réservation).
URL:https://www.meganeo.fr/activite/conference-sexe-genre-et-archeologie/
LOCATION:Eurêkafé\, 28 rue Léon Gambetta\, Toulouse\, 31000\, France
CATEGORIES:Conférence
ATTACH;FMTTYPE=image/jpeg:https://www.meganeo.fr/wp-content/uploads/Gabari-Event-20.jpg
END:VEVENT
END:VCALENDAR