BEGIN:VCALENDAR
VERSION:2.0
PRODID:-//Association MégaNéo - ECPv6.15.17.1//NONSGML v1.0//EN
CALSCALE:GREGORIAN
METHOD:PUBLISH
X-ORIGINAL-URL:https://www.meganeo.fr
X-WR-CALDESC:Évènements pour Association MégaNéo
REFRESH-INTERVAL;VALUE=DURATION:PT1H
X-Robots-Tag:noindex
X-PUBLISHED-TTL:PT1H
BEGIN:VTIMEZONE
TZID:Europe/Paris
BEGIN:DAYLIGHT
TZOFFSETFROM:+0100
TZOFFSETTO:+0200
TZNAME:CEST
DTSTART:20200329T010000
END:DAYLIGHT
BEGIN:STANDARD
TZOFFSETFROM:+0200
TZOFFSETTO:+0100
TZNAME:CET
DTSTART:20201025T010000
END:STANDARD
BEGIN:DAYLIGHT
TZOFFSETFROM:+0100
TZOFFSETTO:+0200
TZNAME:CEST
DTSTART:20210328T010000
END:DAYLIGHT
BEGIN:STANDARD
TZOFFSETFROM:+0200
TZOFFSETTO:+0100
TZNAME:CET
DTSTART:20211031T010000
END:STANDARD
BEGIN:DAYLIGHT
TZOFFSETFROM:+0100
TZOFFSETTO:+0200
TZNAME:CEST
DTSTART:20220327T010000
END:DAYLIGHT
BEGIN:STANDARD
TZOFFSETFROM:+0200
TZOFFSETTO:+0100
TZNAME:CET
DTSTART:20221030T010000
END:STANDARD
END:VTIMEZONE
BEGIN:VEVENT
DTSTART;VALUE=DATE:20210121
DTEND;VALUE=DATE:20210122
DTSTAMP:20260425T001048
CREATED:20210114T170301Z
LAST-MODIFIED:20210115T112114Z
UID:2343-1611187200-1611273599@www.meganeo.fr
SUMMARY:Défrichage du tumulus de la Motte de la Garde
DESCRIPTION:Une demi-journée de défrichage du tumulus de la Motte de la Garde à Luxé (Charente) est organisée le 21 janvier\, à l’invitation d’Eric Bouchet\, de la communauté de communes Cœur de Charente\, du Pays Ruffécois\, de la commune de ligné et de l’association Sauvegarde du patrimoine luxéen. \n 
URL:https://www.meganeo.fr/activite/defrichage-du-tumulus-de-la-motte-de-la-garde/
LOCATION:Luxé
END:VEVENT
END:VCALENDAR