BEGIN:VCALENDAR
VERSION:2.0
PRODID:-//Association MégaNéo - ECPv6.15.17.1//NONSGML v1.0//EN
CALSCALE:GREGORIAN
METHOD:PUBLISH
X-WR-CALNAME:Association MégaNéo
X-ORIGINAL-URL:https://www.meganeo.fr
X-WR-CALDESC:Évènements pour Association MégaNéo
REFRESH-INTERVAL;VALUE=DURATION:PT1H
X-Robots-Tag:noindex
X-PUBLISHED-TTL:PT1H
BEGIN:VTIMEZONE
TZID:Europe/Paris
BEGIN:DAYLIGHT
TZOFFSETFROM:+0100
TZOFFSETTO:+0200
TZNAME:CEST
DTSTART:20190331T010000
END:DAYLIGHT
BEGIN:STANDARD
TZOFFSETFROM:+0200
TZOFFSETTO:+0100
TZNAME:CET
DTSTART:20191027T010000
END:STANDARD
BEGIN:DAYLIGHT
TZOFFSETFROM:+0100
TZOFFSETTO:+0200
TZNAME:CEST
DTSTART:20200329T010000
END:DAYLIGHT
BEGIN:STANDARD
TZOFFSETFROM:+0200
TZOFFSETTO:+0100
TZNAME:CET
DTSTART:20201025T010000
END:STANDARD
BEGIN:DAYLIGHT
TZOFFSETFROM:+0100
TZOFFSETTO:+0200
TZNAME:CEST
DTSTART:20210328T010000
END:DAYLIGHT
BEGIN:STANDARD
TZOFFSETFROM:+0200
TZOFFSETTO:+0100
TZNAME:CET
DTSTART:20211031T010000
END:STANDARD
END:VTIMEZONE
BEGIN:VEVENT
DTSTART;TZID=Europe/Paris:20200531T080000
DTEND;TZID=Europe/Paris:20200531T170000
DTSTAMP:20260425T175043
CREATED:20200518T175559Z
LAST-MODIFIED:20200518T180418Z
UID:2174-1590912000-1590944400@www.meganeo.fr
SUMMARY:Conférence-vidéo "Les dolmens en Quercy "
DESCRIPTION:Le Géoparc des Causses du Quercy s’adapte au contexte actuel et vous propose toute une palette d’activités que vous pourrez faire chez vous. \nDu 23 mai au 1er juin\, retrouvez les mini-conférences du Géoparc sur notre page Facebook. Des géologues\, paléontologues et scientifiques vous expliqueront la géologie des Causses du Quercy. Chaque jour\, une nouvelle vidéo thématique à découvrir ! \nVincent Ard\, Chargé de recherche au CNRS (Laboratoire Traces\, Université Toulouse Jean Jaurès) présentera « Les dolmens en Quercy : témoins des premiers agriculteurs-éleveurs du Néolithique. » \nRendez-vous sur la page Facebook le 31 mai pour découvrir la vidéo ! \nProgramme complet des mini-conférences \n 
URL:https://www.meganeo.fr/activite/conference-video-les-dolmens-en-quercy/
CATEGORIES:Conférence
ATTACH;FMTTYPE=image/jpeg:https://www.meganeo.fr/wp-content/uploads/Aguals-scaled.jpg
END:VEVENT
END:VCALENDAR