BEGIN:VCALENDAR
VERSION:2.0
PRODID:-//Association MégaNéo - ECPv6.15.17.1//NONSGML v1.0//EN
CALSCALE:GREGORIAN
METHOD:PUBLISH
X-ORIGINAL-URL:https://www.meganeo.fr
X-WR-CALDESC:Évènements pour Association MégaNéo
REFRESH-INTERVAL;VALUE=DURATION:PT1H
X-Robots-Tag:noindex
X-PUBLISHED-TTL:PT1H
BEGIN:VTIMEZONE
TZID:Europe/Paris
BEGIN:DAYLIGHT
TZOFFSETFROM:+0100
TZOFFSETTO:+0200
TZNAME:CEST
DTSTART:20160327T010000
END:DAYLIGHT
BEGIN:STANDARD
TZOFFSETFROM:+0200
TZOFFSETTO:+0100
TZNAME:CET
DTSTART:20161030T010000
END:STANDARD
BEGIN:DAYLIGHT
TZOFFSETFROM:+0100
TZOFFSETTO:+0200
TZNAME:CEST
DTSTART:20170326T010000
END:DAYLIGHT
BEGIN:STANDARD
TZOFFSETFROM:+0200
TZOFFSETTO:+0100
TZNAME:CET
DTSTART:20171029T010000
END:STANDARD
BEGIN:DAYLIGHT
TZOFFSETFROM:+0100
TZOFFSETTO:+0200
TZNAME:CEST
DTSTART:20180325T010000
END:DAYLIGHT
BEGIN:STANDARD
TZOFFSETFROM:+0200
TZOFFSETTO:+0100
TZNAME:CET
DTSTART:20181028T010000
END:STANDARD
END:VTIMEZONE
BEGIN:VEVENT
DTSTART;TZID=Europe/Paris:20170617T190000
DTEND;TZID=Europe/Paris:20170617T203000
DTSTAMP:20260423T174947
CREATED:20171008T115423Z
LAST-MODIFIED:20171008T115459Z
UID:321-1497726000-1497731400@www.meganeo.fr
SUMMARY:Conférence sur le Néolithique et la montée des inégalités sociales par Vincent Ard à Thouars (Deux-Sèvres)
DESCRIPTION:Conférence « Du Proche-Orient au Poitou : le Néolithique et la montée des inégalités sociales (Xe-IIIe millénaires av. J-C) » animée par Vincent Ard\, archéologue (CNRS\, université de Toulouse).\nSalle Jacques Barathon / Conservatoire de musiques et de danses\, 6 rue du Président Tyndo \nDans le cadre de NéOdyssée 2017 et des Journées nationales de l’archéologie
URL:https://www.meganeo.fr/activite/conference-sur-le-neolithique-et-la-montee-des-inegalites-sociales-par-vincent-ard-a-thouars-deux-sevres/
LOCATION:Conservatoire\, Thouars\, 6 rue du Président Tyndo\, Thouars\, Nouvelle-Aquitaine\, 79100\, France
CATEGORIES:Conférence
END:VEVENT
BEGIN:VEVENT
DTSTART;TZID=Europe/Paris:20170618T160000
DTEND;TZID=Europe/Paris:20170618T173000
DTSTAMP:20260423T174947
CREATED:20171008T115857Z
LAST-MODIFIED:20171008T142117Z
UID:326-1497801600-1497807000@www.meganeo.fr
SUMMARY:Visite commentée de la nécropole de Monpalais à Taizé (Deux-Sèvres)
DESCRIPTION:Visite commentée de la nécropole de Monpalais et de son environnement animée par Didier Poncet\, géologue\nRDV parking / nécropole de Monpalais \nDans le cadre de NéOdyssée 2017 et des Journées nationales de l’archéologie
URL:https://www.meganeo.fr/activite/visite-commentee-de-la-necropole-de-monpalais-a-taize-deux-sevres/
LOCATION:Nécropole\, Taizé\, Impasse des Dolmens Maranzais\, Taizé\, Nouvelle-Aquitaine\, 79100\, France
CATEGORIES:Visite
ATTACH;FMTTYPE=image/jpeg:https://www.meganeo.fr/wp-content/uploads/IMG_4513-e1507475935643.jpg
END:VEVENT
END:VCALENDAR