BEGIN:VCALENDAR
VERSION:2.0
PRODID:-//Association MégaNéo - ECPv6.15.17.1//NONSGML v1.0//EN
CALSCALE:GREGORIAN
METHOD:PUBLISH
X-WR-CALNAME:Association MégaNéo
X-ORIGINAL-URL:https://www.meganeo.fr
X-WR-CALDESC:Évènements pour Association MégaNéo
REFRESH-INTERVAL;VALUE=DURATION:PT1H
X-Robots-Tag:noindex
X-PUBLISHED-TTL:PT1H
BEGIN:VTIMEZONE
TZID:Europe/Paris
BEGIN:DAYLIGHT
TZOFFSETFROM:+0100
TZOFFSETTO:+0200
TZNAME:CEST
DTSTART:20160327T010000
END:DAYLIGHT
BEGIN:STANDARD
TZOFFSETFROM:+0200
TZOFFSETTO:+0100
TZNAME:CET
DTSTART:20161030T010000
END:STANDARD
BEGIN:DAYLIGHT
TZOFFSETFROM:+0100
TZOFFSETTO:+0200
TZNAME:CEST
DTSTART:20170326T010000
END:DAYLIGHT
BEGIN:STANDARD
TZOFFSETFROM:+0200
TZOFFSETTO:+0100
TZNAME:CET
DTSTART:20171029T010000
END:STANDARD
BEGIN:DAYLIGHT
TZOFFSETFROM:+0100
TZOFFSETTO:+0200
TZNAME:CEST
DTSTART:20180325T010000
END:DAYLIGHT
BEGIN:STANDARD
TZOFFSETFROM:+0200
TZOFFSETTO:+0100
TZNAME:CET
DTSTART:20181028T010000
END:STANDARD
END:VTIMEZONE
BEGIN:VEVENT
DTSTART;TZID=Europe/Paris:20171014T160000
DTEND;TZID=Europe/Paris:20171217T190000
DTSTAMP:20260423T104203
CREATED:20171016T133030Z
LAST-MODIFIED:20171016T133946Z
UID:484-1507996800-1513537200@www.meganeo.fr
SUMMARY:Exposition « Collections Particulières » au Musée Charbonneau-Lassay de Loudun (Vienne)
DESCRIPTION:Cette exposition met à l’honneur les collections néolithiques privées du territoire loudunais. Le Néolithique est une période préhistorique charnière dans l’évolution de l’homme : de chasseur-cueilleur il devient sédentaire\, suite à l’invention et la généralisation de l’agriculture. En Europe de l’Ouest\, cette « révolution » est datée entre – 6000 et – 2200. Parmi les vestiges archéologiques emblématiques de la période : les mégalithes. Ce terme générique désigne des constructions composées de blocs de pierre imposants\, tels que le dolmen\, le menhir ou encore le cromlech. \nMais les hommes du Néolithiques ont aussi légués de nombreux outils ! Les lieux de collecte connus confortent la thèse d’une importante occupation du pays loudunais par les hommes du Néolithique\, tandis que la diversité des pièces présentées illustre le savoir-faire des tailleurs de silex. Comme Louis Charbonneau-Lassay en son temps\, les collectionneurs d’aujourd’hui conservent précieusement des fragments de l’histoire locale\, qu’ils soient issus d’héritages ou de découvertes fortuites. \n\n\nMer / Sam / Dim : 15h > 18h
URL:https://www.meganeo.fr/activite/exposition-collections-particulieres-au-musee-charbonneau-lassay-de-loudun-86/
LOCATION:Musée Charbonneau-Lassay\, Loudun\, 24 Rue du Martray\, Loudun\, 86200\, France
CATEGORIES:Exposition
ATTACH;FMTTYPE=image/jpeg:https://www.meganeo.fr/wp-content/uploads/Gabari-Event-1.jpg
END:VEVENT
BEGIN:VEVENT
DTSTART;TZID=Europe/Paris:20171124T090000
DTEND;TZID=Europe/Paris:20171125T180000
DTSTAMP:20260423T104203
CREATED:20171008T140123Z
LAST-MODIFIED:20171008T140340Z
UID:376-1511514000-1511632800@www.meganeo.fr
SUMMARY:32e colloque InterNéo (Le Mans\, Sarthe)
DESCRIPTION:Le thème retenu pour le 32e colloque interrégional sur le Néolithique est Statut des objets\, des lieux et des Hommes au Néolithique. \n\n\n\n\n\n\nLe terme de statut s’entend au sens large\, renvoyant à des aspects tant techniques qu’économiques\, sociologiques\, culturels ou symboliques des faits observés et étudiés par l’archéologie. Son usage impose de chercher des logiques relationnelles\, première étape vers une reconstitution de réseaux\, voire de systèmes cette fois plus dynamiques\, et cela dans des sphères symboliques\, économiques ou techniques. Cette ambition passe par l’élaboration claire des paramètres reconnus comme pertinents par l’archéologue. Quels sont les critères de différenciation que l’on peut percevoir au sein des différentes réalités préhistoriques ? Et à quelles réalités du passé nous renvoient-ils ? \nDans une perspective fonctionnelle ou paléoéconomique\, de nombreux travaux entendent reconstituer l’organisation des terroirs néolithiques\, à partir des données issues d’habitats\, d’aires funéraires ou d’ateliers spécialisés (sites d’extraction de matériaux\, de production d’objets\, de stabulation…). La multiplication des découvertes archéologiques récentes\, qui renseignent parfois de manière poussée sur l’organisation de certains espaces\, ainsi que la variété des études spécialisées menées sur les habitats\, les objets ou les restes humains rendent possibles de telles approches qui visent à identifier les liens et les oppositions\, bref à proposer une structuration. Comment ont été définies les différentes entités qui composent ces hypothétiques réseaux ? Quels sont les critères les plus pertinents pour assigner une fonction à un habitat ou à une zone particulière de cet habitat ? \nLe statut des objets eux-mêmes a fait l’objet de nombreux travaux récents\, qu’il s’agisse des lames de hache\, des poteries ou des bracelets. Ils sont fondés sur le postulat d’une « valeur » ou d’un « potentiel » conférés par la société\, qui a incité à leur transfert dans l’espace. C’est le statut de l’objet qui assure\, en quelque sorte\, sa dissémination et de ce fait son identification comme un fossile-directeur commode pour le préhistorien. Mais ce qui est rare est-il précieux ? \nOn peut aussi tenter d’entrer dans ce système de valeurs par la valorisation sociale des hommes et femmes. La disposition de l’objet dans une sépulture ou parfois sa rareté au sein des assemblages sont présumées traduire une certaine position dans un système de valeur du Néolithique. Cela suffit-il à dénoter un statut particulier pour cet individu ? Comment l’archéologue peut-il contrecarrer les effets de l’anthropocentrisme\, de son bagage idéologique et de ses propres valeurs ? \nComme à l’accoutumée\, une journée du colloque sera consacrée à l’actualité de la recherche. \nTélécharger le programme \n\n\n\nContact:\nNicolas Fromont : nicolas.fromont@inrap.fr\nGrégor Marchand : gregor.marchand@univ-rennes1.fr
URL:https://www.meganeo.fr/activite/32e-colloque-interneo/
LOCATION:Palais des Congrès\, Le Mans\, rue d'Arcole\, Le Mans\, 72000\, France
CATEGORIES:Colloque
ATTACH;FMTTYPE=image/jpeg:https://www.meganeo.fr/wp-content/uploads/Gabari-Event.jpg
END:VEVENT
END:VCALENDAR