BEGIN:VCALENDAR
VERSION:2.0
PRODID:-//Association MégaNéo - ECPv6.15.17.1//NONSGML v1.0//EN
CALSCALE:GREGORIAN
METHOD:PUBLISH
X-WR-CALNAME:Association MégaNéo
X-ORIGINAL-URL:https://www.meganeo.fr
X-WR-CALDESC:Évènements pour Association MégaNéo
REFRESH-INTERVAL;VALUE=DURATION:PT1H
X-Robots-Tag:noindex
X-PUBLISHED-TTL:PT1H
BEGIN:VTIMEZONE
TZID:Europe/Paris
BEGIN:DAYLIGHT
TZOFFSETFROM:+0100
TZOFFSETTO:+0200
TZNAME:CEST
DTSTART:20170326T010000
END:DAYLIGHT
BEGIN:STANDARD
TZOFFSETFROM:+0200
TZOFFSETTO:+0100
TZNAME:CET
DTSTART:20171029T010000
END:STANDARD
BEGIN:DAYLIGHT
TZOFFSETFROM:+0100
TZOFFSETTO:+0200
TZNAME:CEST
DTSTART:20180325T010000
END:DAYLIGHT
BEGIN:STANDARD
TZOFFSETFROM:+0200
TZOFFSETTO:+0100
TZNAME:CET
DTSTART:20181028T010000
END:STANDARD
BEGIN:DAYLIGHT
TZOFFSETFROM:+0100
TZOFFSETTO:+0200
TZNAME:CEST
DTSTART:20190331T010000
END:DAYLIGHT
BEGIN:STANDARD
TZOFFSETFROM:+0200
TZOFFSETTO:+0100
TZNAME:CET
DTSTART:20191027T010000
END:STANDARD
END:VTIMEZONE
BEGIN:VEVENT
DTSTART;TZID=Europe/Paris:20180320T213000
DTEND;TZID=Europe/Paris:20180320T230000
DTSTAMP:20260423T051902
CREATED:20180201T122426Z
LAST-MODIFIED:20180207T104832Z
UID:672-1521581400-1521586800@www.meganeo.fr
SUMMARY:Conférence de préhistoire et d’archéologie : Monumentalisme et Territoires au Néolithique entre Loire et Charente : Premiers résultats d'un projet collectif en cours.
DESCRIPTION:Le Groupe Vendéen d’Études Préhistoriques est une association loi 1901\, créée en 1978\, qui s’est donnée comme but la diffusion des informations concernant l’archéologie préhistorique locale\, nationale\, voire internationale. Pour cela\, le GVEP organise des conférences\, des sorties et édite un bulletin annuel (qui paraît en février-mars) ainsi que des ouvrages thématiques. \nMonumentalisme et Territoires au Néolithique entre Loire et Charente : Premiers résultats d’un projet collectif en cours. Vincent ARD (CNRS\, UMR 5608 Traces\, Toulouse) \nDans le cadre d’un Projet Collectif de Recherche (PCR) tri-annuel (2016-2018)\, intitulé « Monumentalismes et territoires au Néolithique entre Loire et Charente. Formes et environnements des  mégalithes et des enceintes »\, de nouvelles recherches sont actuellement menées sur les sites monumentaux du monde des morts (mégalithes) et du monde des vivants (enceintes fossoyées) dans le nord de la Charente (Ruffécois) et du Poitou (Loudunais/Thouarsais). L’ambition de ce projet est de documenter et d’analyser la diversité des architectures\, les intentions des bâtisseurs et les dynamiques de construction des paysages au Néolithique par une approche multi-échelle\, allant du site au territoire. Pour répondre à ces questionnements\, le projet regroupe une cinquantaine de participants – chercheurs\, étudiants\, bénévoles et médiateurs du patrimoine –. \nLes outils les plus récents sont mis en œuvre\, tels que la prospection géophysique\, le survol en drone équipé du LIDAR ou encore la photogrammétrie 3D. Au cours de cette communication\, nous présenterons les premiers résultats majeurs de ce projet\, en particulier ceux de la fouille en cours de l’enceinte du Peu à Charmé (Charente)\, daté du milieu du 5e millénaire\, qui a livré les traces de quatre bâtiments sur poteau à l’intérieur de l’espace enclos. De nouvelles données sur les dolmens de type angoumoisin et les premiers résultats de la fouille de la sépulture à entrée latérale de Chantebrault IV à Saint-Laon (Vienne) seront également exposés.
URL:https://www.meganeo.fr/activite/conference-de-prehistoire-et-darcheologie-monumentalisme-et-territoires-au-neolithique-entre-loire-et-charente-premiers-resultats-dun-projet-collectif-en-cours/
LOCATION:Lycée Jean de Lattre de Tassigny\, La Roche s/ Yon\, 165 Rue Hubert Cailler\, La Roche s/ Yon\, Pays de la Loire\, 85000\, France
CATEGORIES:Conférence
ATTACH;FMTTYPE=image/jpeg:https://www.meganeo.fr/wp-content/uploads/2.jpg
ORGANIZER;CN="GVEP":MAILTO:gvep@gvep.fr
END:VEVENT
BEGIN:VEVENT
DTSTART;TZID=Europe/Paris:20180324T160000
DTEND;TZID=Europe/Paris:20180527T190000
DTSTAMP:20260423T051902
CREATED:20180317T213216Z
LAST-MODIFIED:20180317T213347Z
UID:988-1521907200-1527447600@www.meganeo.fr
SUMMARY:Exposition « La grande aventure des mégalithes » au Musée Charbonneau-Lassay (86)
DESCRIPTION:« La grande aventure des mégalithes » propose aux visiteurs de suivre l’évolution de la perception des pierres levées par l’homme au cours des siècles : fascinante rétrospective de deux millénaires passés au contact des grands monuments néolithiques.\nA travers 15 panneaux\, l’histoire se déroule : des légendes à l’archéologie d’aujourd’hui\, en passant par les fausses pistes rattachées à la celtomanie ainsi qu’aux nationalisme\, sans oublier les campagnes de destruction successives. Ce n’est pas un discours littéraire que le public sera amené à découvrir\, mais l’illustration de l’évolution des mentalités et connaissances via de nombreux exemples de mégalithes dispersés dans toute la France. Aux côtés de ce fil rouge\, le fonds du Musée\, enrichi de prêts\, permet d’appréhender par l’objet les thèmes évoqués : la vocation funéraire des mégalithes\, les théories du 19ème siècle et enfin l’archéologie actuelle. \nOuverture : Mer. / Sam. / Dim : 15h > 18h\nEntrée libre \nPlus d’infos (dossier de presse)
URL:https://www.meganeo.fr/activite/exposition-la-grande-aventure-des-megalithes-au-musee-charbonneau-lassay-86/
LOCATION:Musée Charbonneau-Lassay\, Loudun\, 24 Rue du Martray\, Loudun\, 86200\, France
CATEGORIES:Exposition
ATTACH;FMTTYPE=image/jpeg:https://www.meganeo.fr/wp-content/uploads/DV-8Ci9X4AA89V7.jpg
END:VEVENT
BEGIN:VEVENT
DTSTART;TZID=Europe/Paris:20180326T093000
DTEND;TZID=Europe/Paris:20180327T180000
DTSTAMP:20260423T051902
CREATED:20180313T083730Z
LAST-MODIFIED:20180313T083820Z
UID:711-1522056600-1522173600@www.meganeo.fr
SUMMARY:Journées archéologiques régionales des Pays de la Loire
DESCRIPTION:Chaque année\, la DRAC des Pays de la Loire organise les Journées archéologiques régionales. Ces journées rassemblent les archéologues de la région et sont l’occasion\, à travers deux jours de communications\, d’échanger sur les découvertes archéologiques de l’année. L’ entrée y est libre.\nLes Journées archéologiques régionales sont organisées par la DRAC Pays de la Loire en partenariat avec Nantes Métropole. \nDécouvrir le PROGRAMME des Journées Archéologiques Régionales 2018 \nLes JAR 2018 auront lieu à Nantes les lundi 26 et mardi 27 mars 2018 au Lieu Unique.\nLa première journée sera en grande partie consacrée aux actualités des découvertes en Pays de la Loire.\nL’Antiquité sera à l’ordre du jour de la seconde journée dédiée à ce colloque.Vous pouvez d’ores et déjà vous inscrire à l’une et/ou l’autre de ces journées. \n  \nRenseignements et inscription: \nDRAC des Pays de la Loire\nService communication\n02 40 14 23 96\ncommunication.paysdelaloire@culture.gouv.fr
URL:https://www.meganeo.fr/activite/journees-archeologiques-regionales-des-pays-de-la-loire/
LOCATION:Le Lieu Unique\, Nantes\, 2 Rue de la Biscuiterie\, Nantes\, Pays de la Loire\, 44000\, France
CATEGORIES:Conférence
ATTACH;FMTTYPE=image/jpeg:https://www.meganeo.fr/wp-content/uploads/2-1.jpg
END:VEVENT
END:VCALENDAR