BEGIN:VCALENDAR
VERSION:2.0
PRODID:-//Association MégaNéo - ECPv6.15.17.1//NONSGML v1.0//EN
CALSCALE:GREGORIAN
METHOD:PUBLISH
X-WR-CALNAME:Association MégaNéo
X-ORIGINAL-URL:https://www.meganeo.fr
X-WR-CALDESC:Évènements pour Association MégaNéo
REFRESH-INTERVAL;VALUE=DURATION:PT1H
X-Robots-Tag:noindex
X-PUBLISHED-TTL:PT1H
BEGIN:VTIMEZONE
TZID:Europe/Paris
BEGIN:DAYLIGHT
TZOFFSETFROM:+0100
TZOFFSETTO:+0200
TZNAME:CEST
DTSTART:20170326T010000
END:DAYLIGHT
BEGIN:STANDARD
TZOFFSETFROM:+0200
TZOFFSETTO:+0100
TZNAME:CET
DTSTART:20171029T010000
END:STANDARD
BEGIN:DAYLIGHT
TZOFFSETFROM:+0100
TZOFFSETTO:+0200
TZNAME:CEST
DTSTART:20180325T010000
END:DAYLIGHT
BEGIN:STANDARD
TZOFFSETFROM:+0200
TZOFFSETTO:+0100
TZNAME:CET
DTSTART:20181028T010000
END:STANDARD
BEGIN:DAYLIGHT
TZOFFSETFROM:+0100
TZOFFSETTO:+0200
TZNAME:CEST
DTSTART:20190331T010000
END:DAYLIGHT
BEGIN:STANDARD
TZOFFSETFROM:+0200
TZOFFSETTO:+0100
TZNAME:CET
DTSTART:20191027T010000
END:STANDARD
END:VTIMEZONE
BEGIN:VEVENT
DTSTART;TZID=Europe/Paris:20180324T160000
DTEND;TZID=Europe/Paris:20180527T190000
DTSTAMP:20260423T023216
CREATED:20180317T213216Z
LAST-MODIFIED:20180317T213347Z
UID:988-1521907200-1527447600@www.meganeo.fr
SUMMARY:Exposition « La grande aventure des mégalithes » au Musée Charbonneau-Lassay (86)
DESCRIPTION:« La grande aventure des mégalithes » propose aux visiteurs de suivre l’évolution de la perception des pierres levées par l’homme au cours des siècles : fascinante rétrospective de deux millénaires passés au contact des grands monuments néolithiques.\nA travers 15 panneaux\, l’histoire se déroule : des légendes à l’archéologie d’aujourd’hui\, en passant par les fausses pistes rattachées à la celtomanie ainsi qu’aux nationalisme\, sans oublier les campagnes de destruction successives. Ce n’est pas un discours littéraire que le public sera amené à découvrir\, mais l’illustration de l’évolution des mentalités et connaissances via de nombreux exemples de mégalithes dispersés dans toute la France. Aux côtés de ce fil rouge\, le fonds du Musée\, enrichi de prêts\, permet d’appréhender par l’objet les thèmes évoqués : la vocation funéraire des mégalithes\, les théories du 19ème siècle et enfin l’archéologie actuelle. \nOuverture : Mer. / Sam. / Dim : 15h > 18h\nEntrée libre \nPlus d’infos (dossier de presse)
URL:https://www.meganeo.fr/activite/exposition-la-grande-aventure-des-megalithes-au-musee-charbonneau-lassay-86/
LOCATION:Musée Charbonneau-Lassay\, Loudun\, 24 Rue du Martray\, Loudun\, 86200\, France
CATEGORIES:Exposition
ATTACH;FMTTYPE=image/jpeg:https://www.meganeo.fr/wp-content/uploads/DV-8Ci9X4AA89V7.jpg
END:VEVENT
BEGIN:VEVENT
DTSTART;TZID=Europe/Paris:20180501T090000
DTEND;TZID=Europe/Paris:20180515T180000
DTSTAMP:20260423T023216
CREATED:20180206T163106Z
LAST-MODIFIED:20180206T190013Z
UID:661-1525165200-1526407200@www.meganeo.fr
SUMMARY:Fouille des dolmens de la vallée de Mendive (Pyrénées-Atlantiques)
DESCRIPTION:La fouille des dolmens de la vallée de Mendive 2018\, entreprise dans le cadre du PCR « Structures dolméniques et territoires dans les Pyrénées nord-occidentales » dirigé par Pablo Marticorena\, aura lieue du 30 avril au 15 mai 2018.\nPour participer\, une bonne condition physique est requise.  \nPlus d’informations et inscriptions: harriak@hotmail.fr
URL:https://www.meganeo.fr/activite/fouilles-de-dolmens-de-la-vallee-de-mendive-pyrenees-atlantiques/
CATEGORIES:Fouille
ATTACH;FMTTYPE=image/jpeg:https://www.meganeo.fr/wp-content/uploads/gastee.jpg
ORGANIZER;CN="Pablo Marticorena":MAILTO:harriak@hotmail.fr
END:VEVENT
BEGIN:VEVENT
DTSTART;TZID=Europe/Paris:20180513T120000
DTEND;TZID=Europe/Paris:20180513T163000
DTSTAMP:20260423T023216
CREATED:20180418T153337Z
LAST-MODIFIED:20180418T153337Z
UID:1033-1526212800-1526229000@www.meganeo.fr
SUMMARY:Rencontr'Archéo spécial dolmens au Mas-d'Azil (Ariège)
DESCRIPTION:L’association Grottes et Archéologies\, en partenariat avec MégaNéo organise une nouvelle édition des Rencontr’Archéo\, consacrée aux dolmens.  \n11h00 : Conférence « le Néolithique au Mas d’Azil\, une période méconnue ». \n12h00 : Départ de la balade \n  \nConférence « le Néolithique au Mas d’Azil\, une période méconnue » par Sarah Boscus\, doctorante en archéologie préhistorique à l’Université de Jean-Jaurès\, Toulouse\, à 11h. \nLe Mas-d’Azil est surtout connu pour son impressionnante grotte\, occupée depuis les débuts de la préhistoire\, et les nombreuses découvertes d’art mobilier magdalénien et azilien. Ce que l’on connaît beaucoup moins\, c’est l’occupation néolithique de la grotte et du territoire environnant. \nC’est d’ailleurs ce constat qui nous a poussés à reprendre les études dans ce secteur.  \nNous verrons donc\, après être revenu sur les grandes lignes du Néolithique\, le résultat des recherches menées autour du Mas d’Azil et de ces dolmens\, dans le cadre d’une étude universitaire et d’une prospection thématique. Les perspectives de recherche\, grâce notamment à de nouvelles techniques de prospection seront également évoquées ici.  \n  \nBalade accompagnée sur le sentier des dolmens à 12h00 (prévoir son pique-nique !)
URL:https://www.meganeo.fr/activite/rencontrarcheo-special-dolmens-au-mas-dazil-ariege/
LOCATION:Centre culturel multimédia du Mas-d’Azil\, 3 rue du temple\, Le Mas-d'Azil\, Occitanie\, 09290\, France
CATEGORIES:Conférence,Visite
ATTACH;FMTTYPE=image/jpeg:https://www.meganeo.fr/wp-content/uploads/Bandeau-Mas-01-e1527066911768.jpg
END:VEVENT
END:VCALENDAR