BEGIN:VCALENDAR
VERSION:2.0
PRODID:-//Association MégaNéo - ECPv6.15.17.1//NONSGML v1.0//EN
CALSCALE:GREGORIAN
METHOD:PUBLISH
X-WR-CALNAME:Association MégaNéo
X-ORIGINAL-URL:https://www.meganeo.fr
X-WR-CALDESC:Évènements pour Association MégaNéo
REFRESH-INTERVAL;VALUE=DURATION:PT1H
X-Robots-Tag:noindex
X-PUBLISHED-TTL:PT1H
BEGIN:VTIMEZONE
TZID:Europe/Paris
BEGIN:DAYLIGHT
TZOFFSETFROM:+0100
TZOFFSETTO:+0200
TZNAME:CEST
DTSTART:20180325T010000
END:DAYLIGHT
BEGIN:STANDARD
TZOFFSETFROM:+0200
TZOFFSETTO:+0100
TZNAME:CET
DTSTART:20181028T010000
END:STANDARD
BEGIN:DAYLIGHT
TZOFFSETFROM:+0100
TZOFFSETTO:+0200
TZNAME:CEST
DTSTART:20190331T010000
END:DAYLIGHT
BEGIN:STANDARD
TZOFFSETFROM:+0200
TZOFFSETTO:+0100
TZNAME:CET
DTSTART:20191027T010000
END:STANDARD
BEGIN:DAYLIGHT
TZOFFSETFROM:+0100
TZOFFSETTO:+0200
TZNAME:CEST
DTSTART:20200329T010000
END:DAYLIGHT
BEGIN:STANDARD
TZOFFSETFROM:+0200
TZOFFSETTO:+0100
TZNAME:CET
DTSTART:20201025T010000
END:STANDARD
END:VTIMEZONE
BEGIN:VEVENT
DTSTART;TZID=Europe/Paris:20190110T090000
DTEND;TZID=Europe/Paris:20190323T180000
DTSTAMP:20260423T104215
CREATED:20190214T120851Z
LAST-MODIFIED:20190214T120918Z
UID:1629-1547110800-1553364000@www.meganeo.fr
SUMMARY:Exposition "Archéo une expo à creuser" à Toulouse
DESCRIPTION: \n \n« Comment ont vécu les hommes avant nous ? C’est la question à laquelle tentent de répondre les archéologues. \nMais qui sont ces chercheurs qui nous aident à remonter le temps ? Pourquoi font-ils des fouilles ? Quels indices trouvent-ils ? Comment parviennent-ils à les interpréter ? Que deviennent les objets une fois la fouille terminée ? Autant de questions auxquelles vous pourrez répondre grâce à l’exposition Archéo. Une expo à creuser !\, et ses nombreux dispositifs interactifs. \nEnfilez votre gilet de sécurité\, prenez votre Archéopass\, vous voilà prêts pour l’aventure ! \nPeu de théorie\, beaucoup de pratique. Mesurez\, dessinez\, identifiez et datez et faites ensuite parler les objets. Entrez dans le \nlaboratoire pour étudier de près os humains\, mandibule animale\, fragments de poterie\, pièces \nde monnaies\, noyaux de fruits… à la fin de votre immersion\, le métier d’archéologue n’aura plus de secret pour vous.  \nL’exposition est ouverte au public du lundi au samedi de 8 h 30 à 23 h 30\, entrée libre et gratuite. \nMaison des Associations\, Espace Niel\, 3 place Guy-Hersant (métro ligne B\, Saint-Agne) \n\n \n\n\n\n\n\nDes séances gratuites\, animées par l’association Grottes et Archéologies\, sont proposées aux écoles du cycle 3 à la 2nde\, sur le secteur 5.3. Une second séance permettra aux élèves de découvrir le Musée Saint-Raymond.\nPendant les vacances scolaires\, du 25 février au 6 mars\, les lundis\, mardis et mercredis de 14h30 à 16h30\, des médiateurs culturels seront présents dans l’exposition pour accueillir les familles et les CLAE.\n\nContact pour la réservation des groupes (scolaires et extra-scolaires) : \nMarie-Cécile Palacin : 05 62 27 49 57 ou \nmarie-cecile.palacin@mairie-toulouse.fr  \nCe projet a été initié dans le cadre de la Charte d’engagement Culture – Politique de \nla Ville\, ce projet s’inscrit dans la démarche « Empalot \, aux origines de la cité ». » \n\n\n\nsource: MSR
URL:https://www.meganeo.fr/activite/exposition-archeo-une-expo-a-creuser/
LOCATION:Maison des Associations (quartier Niel)\, 3 Place Guy Hersant\, Toulouse\, 31031
CATEGORIES:Exposition
ATTACH;FMTTYPE=image/jpeg:https://www.meganeo.fr/wp-content/uploads/Gabari-Event-15.jpg
END:VEVENT
BEGIN:VEVENT
DTSTART;TZID=Europe/Paris:20190330T110000
DTEND;TZID=Europe/Paris:20190330T200000
DTSTAMP:20260423T104215
CREATED:20190318T132706Z
LAST-MODIFIED:20190318T132707Z
UID:1677-1553943600-1553976000@www.meganeo.fr
SUMMARY:Forum de l'Archéologie
DESCRIPTION:« Co-organisé par le CERAC et l’APAREA\, l’objectif de la journée est de présenter l’archéologie dans toutes ses variantes et ses complexités à un large public : familial\, individuel\, et aussi adolescent. En effet\, pour les collégiens et lycéens qui se questionnent sur leur orientation\, c’est l’occasion de rencontrer des professionnels\, chercheurs\, étudiants en archéologie pour mieux connaitre ce métier et cette discipline. \nToute la journée\, des animations feront découvrir de manière ludique et pédagogique l’archéologie (atelier fouilles\, statues-menhirs\, modelage en argile…) pour le jeune public. L’après-midi\, une table-ronde exceptionnelle sera organisée avec des acteurs de l’archéologie préventive afin de comprendre son fonctionnement et de découvrir les opérations réalisées sur Castres. Ainsi\, l’INRAP sera représenté par le délégué du Directeur adjoint scientifique et technique Midi-Pyrénées Marc Jarry accompagné par les archéologues Nathalie Pouget et Didier Rigal\, ainsi que des agents de la DRAC Sandy Gualandi et Valérie Salle. Ils présenteront leur rôle respectif dans l’archéologie et les premiers résultats des diagnostics et des fouilles réalisés sur la commune en 2018. La journée se clôturera avec la conférence de Vincent Ard (UMR Traces – Université de Toulouse Jean Jaurès) portant sur le mégalithisme et les enceintes néolithiques. \nLa journée sera  animée par de nombreux bénévoles qui seront ravis de répondre à toutes les questions que vous vous posez\, alors n’hésitez pas à passer la journée à Gourjade ! » \n  \nVoir le programme détaillé de l’évènement\nsource: https://www.cerac-archeopole.fr
URL:https://www.meganeo.fr/activite/forum-de-larcheologie/
LOCATION:Domaine de Gourjade\, Domaine de Gourjade\, Castres\, 81100\, France
CATEGORIES:Ateliers,Conférence,Visite
ATTACH;FMTTYPE=image/jpeg:https://www.meganeo.fr/wp-content/uploads/Gabari-Event-18.jpg
END:VEVENT
END:VCALENDAR