BEGIN:VCALENDAR
VERSION:2.0
PRODID:-//Association MégaNéo - ECPv6.15.17.1//NONSGML v1.0//EN
CALSCALE:GREGORIAN
METHOD:PUBLISH
X-ORIGINAL-URL:https://www.meganeo.fr
X-WR-CALDESC:Évènements pour Association MégaNéo
REFRESH-INTERVAL;VALUE=DURATION:PT1H
X-Robots-Tag:noindex
X-PUBLISHED-TTL:PT1H
BEGIN:VTIMEZONE
TZID:Europe/Paris
BEGIN:DAYLIGHT
TZOFFSETFROM:+0100
TZOFFSETTO:+0200
TZNAME:CEST
DTSTART:20180325T010000
END:DAYLIGHT
BEGIN:STANDARD
TZOFFSETFROM:+0200
TZOFFSETTO:+0100
TZNAME:CET
DTSTART:20181028T010000
END:STANDARD
BEGIN:DAYLIGHT
TZOFFSETFROM:+0100
TZOFFSETTO:+0200
TZNAME:CEST
DTSTART:20190331T010000
END:DAYLIGHT
BEGIN:STANDARD
TZOFFSETFROM:+0200
TZOFFSETTO:+0100
TZNAME:CET
DTSTART:20191027T010000
END:STANDARD
BEGIN:DAYLIGHT
TZOFFSETFROM:+0100
TZOFFSETTO:+0200
TZNAME:CEST
DTSTART:20200329T010000
END:DAYLIGHT
BEGIN:STANDARD
TZOFFSETFROM:+0200
TZOFFSETTO:+0100
TZNAME:CET
DTSTART:20201025T010000
END:STANDARD
END:VTIMEZONE
BEGIN:VEVENT
DTSTART;TZID=Europe/Paris:20190404T193000
DTEND;TZID=Europe/Paris:20190404T210000
DTSTAMP:20260423T121658
CREATED:20190403T102740Z
LAST-MODIFIED:20190403T102740Z
UID:1777-1554406200-1554411600@www.meganeo.fr
SUMMARY:Projection/Conférence "Éthiopie\, le mystère des mégalithes"
DESCRIPTION:La Société des Explorateurs Français organise une projection/conférence du film « Éthiopie\, le mystère des mégalithes » \, film auquel des chercheurs membres de MégaNéo ont participé.  \nEntrée libre et gratuite \n\nPlus d’infos (et photos) sur la Mission Abaya en Éthiopie
URL:https://www.meganeo.fr/activite/projection-conference-ethiopie-le-mystere-des-megalithes/
LOCATION:Société des Explorateurs Français\, 184\, Boulevard Saint Germain\, Paris\, 75006
CATEGORIES:Conférence
ATTACH;FMTTYPE=image/jpeg:https://www.meganeo.fr/wp-content/uploads/Gabari-Event-21.jpg
END:VEVENT
BEGIN:VEVENT
DTSTART;TZID=Europe/Paris:20190416T173000
DTEND;TZID=Europe/Paris:20190416T183000
DTSTAMP:20260423T121658
CREATED:20190318T141008Z
LAST-MODIFIED:20190318T141519Z
UID:1700-1555435800-1555439400@www.meganeo.fr
SUMMARY:Conférence "L’art mégalithique au Néolithique ..." - Université en Angoumois
DESCRIPTION:« L’Université en Angoumois » est organisée depuis 1991. Elle permet au grand public curieux d’histoire\, d’histoire de l’art\, d’archéologie ou d’architecture d’assister à des conférences données sur des sujets variés par des chercheurs de renom venus spécialement pour lui. Avec l’aide du comité scientifique\, une thématique pluridisciplinaire a été définie et un programme attrayant et révélateur de la recherche universitaire actuelle sur le sujet a été concocté. Cette année\, le thème retenu est « Patrimoine(s) et langage(s) : donner\, recevoir\, restituer ».  \nDu 16 au 19 avril 2019\, retrouvez :\n• 15 conférences de chercheurs à destination du grand public\n• 1 visite exceptionnelle du Temple des Francs-Maçons d’Angoulême\n• 1 création de danse contemporaine au cœur de l’Alpha \nAttention: inscription obligatoire ! \n  \nA cette occasion\, Vincent Ard propose une conférence le mardi 16 avril à 16h30 autour de « L’art mégalithique au Néolithique : iconographie des signes de l’Anatolie à la façade atlantique ».  \nCette conférence aura pour objectif de présenter les différentes expressionsartistiques qui accompagnent l’émergence et le développement du phénomène mégalithique depuis l’Anatolie jusqu’à la façade atlantique. Révélatrice des pensées symboliques de ces premières sociétés d’agriculteurséleveurs\, cet art constitue un répertoire de signes qu’il est complexe de déchiffrer et d’analyser. Ce panorama permet de suivre les changements de la période néolithique jusqu’à l’aube des âges des Métaux. \nTélécharger le programme complet et le bulletin d’inscription\nsource: www.grandangouleme.fr\n 
URL:https://www.meganeo.fr/activite/conference-lart-megalithique-au-neolithique-universite-en-angoumois/
LOCATION:L’Alpha – Médiathèque de GrandAngoulême\, 1 Rue Coulomb\, Angoulême\, 16000\, France
CATEGORIES:Conférence,Visite
ATTACH;FMTTYPE=image/jpeg:https://www.meganeo.fr/wp-content/uploads/Gabari-Event-19.jpg
END:VEVENT
BEGIN:VEVENT
DTSTART;TZID=Europe/Paris:20190418T200000
DTEND;TZID=Europe/Paris:20190418T223000
DTSTAMP:20260423T121658
CREATED:20190403T082111Z
LAST-MODIFIED:20190403T082111Z
UID:1767-1555617600-1555626600@www.meganeo.fr
SUMMARY:Conférence: Sexe\, Genre et Archéologie
DESCRIPTION:L’Aparea UT2J vous propose une série de conférences et débat autour de la thématique « Sexe\, genre et archéologie » : Le genre comme outil d’analyse et comme filtre dans notre conception des sociétés passées. \nProgramme : \n\n19h / Anne Augereau – « L’organisation sociale dans le néolithique européen : les apports d’une étude du genre »\n19h25 / Sébastien Villote – « La division sexuelle du travail en préhistoire : regards d’anthropobiologistes »\n19h50 / Esther López Montalvo – « Appréhender la construction du genre dans les sociétés préhistoriques par leurs images : les apports de l’art levantin »\n20h15 / Sandra Péré-Nogues – « Pour un autre regard sur les sociétés de l’Antiquité : le genre en histoire et en archéologie »\n\n20h40 / Anick Coudart – Synthèse comparative sur les différences d’approche entre France et État-Unis\n21h / Débat libre\n\n  \nPossibilité d’adhérer à l’Aparea UT2J sur place. \nAccès :\nMétro – Ligne A\, arrêt « Capitole »\nBus – Navette Centre-Ville\, arrêt « Rémusat »\n50 places disponibles dans l’ordre d’arrivée (pas de réservation).
URL:https://www.meganeo.fr/activite/conference-sexe-genre-et-archeologie/
LOCATION:Eurêkafé\, 28 rue Léon Gambetta\, Toulouse\, 31000\, France
CATEGORIES:Conférence
ATTACH;FMTTYPE=image/jpeg:https://www.meganeo.fr/wp-content/uploads/Gabari-Event-20.jpg
END:VEVENT
END:VCALENDAR