BEGIN:VCALENDAR
VERSION:2.0
PRODID:-//Association MégaNéo - ECPv6.15.17.1//NONSGML v1.0//EN
CALSCALE:GREGORIAN
METHOD:PUBLISH
X-ORIGINAL-URL:https://www.meganeo.fr
X-WR-CALDESC:Évènements pour Association MégaNéo
REFRESH-INTERVAL;VALUE=DURATION:PT1H
X-Robots-Tag:noindex
X-PUBLISHED-TTL:PT1H
BEGIN:VTIMEZONE
TZID:Europe/Paris
BEGIN:DAYLIGHT
TZOFFSETFROM:+0100
TZOFFSETTO:+0200
TZNAME:CEST
DTSTART:20180325T010000
END:DAYLIGHT
BEGIN:STANDARD
TZOFFSETFROM:+0200
TZOFFSETTO:+0100
TZNAME:CET
DTSTART:20181028T010000
END:STANDARD
BEGIN:DAYLIGHT
TZOFFSETFROM:+0100
TZOFFSETTO:+0200
TZNAME:CEST
DTSTART:20190331T010000
END:DAYLIGHT
BEGIN:STANDARD
TZOFFSETFROM:+0200
TZOFFSETTO:+0100
TZNAME:CET
DTSTART:20191027T010000
END:STANDARD
BEGIN:DAYLIGHT
TZOFFSETFROM:+0100
TZOFFSETTO:+0200
TZNAME:CEST
DTSTART:20200329T010000
END:DAYLIGHT
BEGIN:STANDARD
TZOFFSETFROM:+0200
TZOFFSETTO:+0100
TZNAME:CET
DTSTART:20201025T010000
END:STANDARD
END:VTIMEZONE
BEGIN:VEVENT
DTSTART;TZID=Europe/Paris:20191206T110000
DTEND;TZID=Europe/Paris:20191206T170000
DTSTAMP:20260423T235604
CREATED:20191123T074411Z
LAST-MODIFIED:20191123T074411Z
UID:2032-1575630000-1575651600@www.meganeo.fr
SUMMARY:Le mégalithisme en Europe atlantique : émergence et complexité du phénomène
DESCRIPTION:Le 6 décembre 2019 se tiendra le Séminaire de l’équipe PRBM et de l’ANR MONUMEN à l’Université de Toulouse Salle D30 – 10h-17h. \nProgramme : \n\n\n\n10h – J. Guilaine (Institut de France) \nIntroduction \n10h30 – L. García Sanjuán (Professeur de préhistoire\, Université de Séville) \nEmerging Complexity in Late Neolithic and Copper Age Andalusia: Recent Research at the Antequera Megalithic Landscape and the Valencina Copper Age Mega-Site \n14h – V. Ard (CNRS\, UMR 5608 Traces) \nLe programme ANR MONUMEN « Monumentalités\, espaces et compétition sociales au Néolithique en Europe occidentale » : avancées méthodologiques et premiers résultats \n15h – E. Mens (CNRS\, ANR MONUMEN\, UMR 5608 Traces) \nQuelles formes d’émergence et de développement du premier mégalithisme de la façade atlantique française ?
URL:https://www.meganeo.fr/activite/le-megalithisme-en-europe-atlantique-emergence-et-complexite-du-phenomene/
LOCATION:Maison de la Recherche\, Toulouse\, 5 allées Antonio Machado\, Toulouse\, 31058\, France
CATEGORIES:Conférence
END:VEVENT
END:VCALENDAR