BEGIN:VCALENDAR
VERSION:2.0
PRODID:-//Association MégaNéo - ECPv6.15.17.1//NONSGML v1.0//EN
CALSCALE:GREGORIAN
METHOD:PUBLISH
X-ORIGINAL-URL:https://www.meganeo.fr
X-WR-CALDESC:Évènements pour Association MégaNéo
REFRESH-INTERVAL;VALUE=DURATION:PT1H
X-Robots-Tag:noindex
X-PUBLISHED-TTL:PT1H
BEGIN:VTIMEZONE
TZID:Europe/Paris
BEGIN:DAYLIGHT
TZOFFSETFROM:+0100
TZOFFSETTO:+0200
TZNAME:CEST
DTSTART:20190331T010000
END:DAYLIGHT
BEGIN:STANDARD
TZOFFSETFROM:+0200
TZOFFSETTO:+0100
TZNAME:CET
DTSTART:20191027T010000
END:STANDARD
BEGIN:DAYLIGHT
TZOFFSETFROM:+0100
TZOFFSETTO:+0200
TZNAME:CEST
DTSTART:20200329T010000
END:DAYLIGHT
BEGIN:STANDARD
TZOFFSETFROM:+0200
TZOFFSETTO:+0100
TZNAME:CET
DTSTART:20201025T010000
END:STANDARD
BEGIN:DAYLIGHT
TZOFFSETFROM:+0100
TZOFFSETTO:+0200
TZNAME:CEST
DTSTART:20210328T010000
END:DAYLIGHT
BEGIN:STANDARD
TZOFFSETFROM:+0200
TZOFFSETTO:+0100
TZNAME:CET
DTSTART:20211031T010000
END:STANDARD
END:VTIMEZONE
BEGIN:VEVENT
DTSTART;TZID=Europe/Paris:20200916T213000
DTEND;TZID=Europe/Paris:20200916T230000
DTSTAMP:20260424T141702
CREATED:20200221T090214Z
LAST-MODIFIED:20201011T195512Z
UID:2077-1600291800-1600297200@www.meganeo.fr
SUMMARY:Conférence "Monumentalisme néolithique dans le sud-ouest de la France...." (Carnac\, Morbihan)
DESCRIPTION:Au sein du musée de Carnac\, une conférence sur le thème Monumentalisme néolithique dans le sud-ouest de la France. Sites ceinturés et monuments mégalithiques en Nouvelle Aquitaine sera proposée par Vincent Ard (Chargé de recherche au CNRS\, Laboratoire TRACES UMR5608 Université de Toulouse 2.)
URL:https://www.meganeo.fr/activite/monumentalisme-neolithique-dans-le-sud-ouest-de-la-france-sites-ceintures-et-monuments-megalithiques-en-nouvelle-aquitaine/
LOCATION:Musée de préhistoire – Carnac\, 26 Rue Du Tumulus\, Carnac\, 56340
CATEGORIES:Conférence
END:VEVENT
BEGIN:VEVENT
DTSTART;VALUE=DATE:20200919
DTEND;VALUE=DATE:20200921
DTSTAMP:20260424T141702
CREATED:20200917T182120Z
LAST-MODIFIED:20201011T195347Z
UID:2258-1600473600-1600646399@www.meganeo.fr
SUMMARY:Visite des dolmens de Caylus
DESCRIPTION:Les membres de Méganéo seront présents lors des Journées Européennes du Patrimoine 2020 au camp militaire de Caylus. Sur le weekend plusieurs animations sont prévues sur le site. Les bénévoles de l’association assureront les visites de trois dolmens toutes les 30 min\, pendant les deux journées : 10h\, 10h30\, 11h\, 11h30 – pause – 14h\, 14h30\, 15h\, 15h30\, 16h\, 16h30.
URL:https://www.meganeo.fr/activite/visite-des-dolmens-de-caylus/
LOCATION:Camp de Caylus\, Camp LCL NORMAND-Pnia\, Caylus\, 82160\, France
CATEGORIES:Visite
ATTACH;FMTTYPE=image/png:https://www.meganeo.fr/wp-content/uploads/dolmen.png
END:VEVENT
BEGIN:VEVENT
DTSTART;TZID=Europe/Paris:20200923T140000
DTEND;TZID=Europe/Paris:20200923T170000
DTSTAMP:20260424T141702
CREATED:20200917T183632Z
LAST-MODIFIED:20200923T122508Z
UID:2262-1600869600-1600880400@www.meganeo.fr
SUMMARY:Soutenance de thèse : Le mégalithisme du Larzac aveyronnais - interface d'un phénomène - Gestion des espaces
DESCRIPTION:Rendez-vous le 23 septembre à 14H pour la soutenance de Rémi Azémar « Le mégalithisme de Larzac aveyronnais : interface d’un phénomène et gestion des espaces « . \nIl est possible de suivre la soutenance en visioconférence avec le lien suivant : https://prismes.univ-toulouse.fr/player.php?code=a152We5c&width=100 \n 
URL:https://www.meganeo.fr/activite/soutenance-de-these-le-megalithisme-du-larzac-aveyronnais-interface-dun-phenomene-gestion-des-espaces/
LOCATION:Maison de la Recherche\, Toulouse\, 5 allées Antonio Machado\, Toulouse\, 31058\, France
END:VEVENT
END:VCALENDAR