BEGIN:VCALENDAR
VERSION:2.0
PRODID:-//Association MégaNéo - ECPv6.15.17.1//NONSGML v1.0//EN
CALSCALE:GREGORIAN
METHOD:PUBLISH
X-WR-CALNAME:Association MégaNéo
X-ORIGINAL-URL:https://www.meganeo.fr
X-WR-CALDESC:Évènements pour Association MégaNéo
REFRESH-INTERVAL;VALUE=DURATION:PT1H
X-Robots-Tag:noindex
X-PUBLISHED-TTL:PT1H
BEGIN:VTIMEZONE
TZID:Europe/Paris
BEGIN:DAYLIGHT
TZOFFSETFROM:+0100
TZOFFSETTO:+0200
TZNAME:CEST
DTSTART:20200329T010000
END:DAYLIGHT
BEGIN:STANDARD
TZOFFSETFROM:+0200
TZOFFSETTO:+0100
TZNAME:CET
DTSTART:20201025T010000
END:STANDARD
BEGIN:DAYLIGHT
TZOFFSETFROM:+0100
TZOFFSETTO:+0200
TZNAME:CEST
DTSTART:20210328T010000
END:DAYLIGHT
BEGIN:STANDARD
TZOFFSETFROM:+0200
TZOFFSETTO:+0100
TZNAME:CET
DTSTART:20211031T010000
END:STANDARD
BEGIN:DAYLIGHT
TZOFFSETFROM:+0100
TZOFFSETTO:+0200
TZNAME:CEST
DTSTART:20220327T010000
END:DAYLIGHT
BEGIN:STANDARD
TZOFFSETFROM:+0200
TZOFFSETTO:+0100
TZNAME:CET
DTSTART:20221030T010000
END:STANDARD
END:VTIMEZONE
BEGIN:VEVENT
DTSTART;TZID=Europe/Paris:20210531T080000
DTEND;TZID=Europe/Paris:20210604T170000
DTSTAMP:20260425T044518
CREATED:20210518T170729Z
LAST-MODIFIED:20210518T170729Z
UID:2447-1622448000-1622826000@www.meganeo.fr
SUMMARY:Vivre au temps des bâtisseurs de mégalithes : les maisons néolithiques du Peu à Charmé (Charente). Des données de terrain aux propositions de restitution
DESCRIPTION:Plusieurs membres de l’association Méganéo participeront au 29e Congrès Préhistorique de France\, Hiatus\, lacunes et absences : identifier et interpréter les vides archéologiques qui aura lieu du 31 mai au 4 juin 2021 à Toulouse (France). \nRetrouvez durant la section E : Dépasser les plans et révéler l’architecture invisible : de l’identification à la restitution des constructions du Néolithique à l’âge du Fer\, une communication intitulée : Vivre au temps des bâtisseurs de mégalithes : les maisons néolithiques du Peu à Charmé (Charente). Des données de terrain aux propositions de restitution (Vincent Ard\, Marylise Onfray\, Patrick Maguer\, David Aoustin\, François Daniel\, Alexa Dufraisse \, Salomé Granai\, Vivien Mathé). \nL’émergence du mégalithisme sur la façade atlantique constitue l’un des faits marquants du Néolithique moyen. Ce monumentalisme funéraire a longtemps été dissocié de celui du monde des vivants\, représenté notamment par les grandes enceintes à fossés interrompues\, supposées plus récentes. Les résultats obtenus dans le cadre de projets collectifs de recherche successifs et du programme ANR MONUMEN (2018-2022) montent que ces deux formes de monumentalité architecturale apparaissent de manière concomitante dans le bassin de la Charente notamment au milieu du 5e millénaire avant notre ère. \nFouillée depuis 2014\, l’enceinte du Peu à Charmé (Charente) constitue l’un des rares sites de cette période ayant livré les traces de quatre bâtiments sur poteau à l’intérieur de l’espace ceinturé par un fossé et deux palissades. Depuis leur détection par prospection magnétique jusqu’à leur restitution en trois dimensions\, en passant par le croisement des données de terrain\, cette communication présentera une démarche multi-méthode fondée sur le croisement des données archéologiques\, géoarchéologiques\, bioarchéologiques et architecturales. \nLa participation est libre et gratuite. L’inscription reste cependant obligatoire pour avoir accès aux salles virtuelles.
URL:https://www.meganeo.fr/activite/vivre-au-temps-des-batisseurs-de-megalithes-les-maisons-neolithiques-du-peu-a-charme-charente-des-donnees-de-terrain-aux-propositions-de-restitution/
LOCATION:Maison de la Recherche\, Toulouse\, 5 allées Antonio Machado\, Toulouse\, 31058\, France
CATEGORIES:Conférence
ATTACH;FMTTYPE=image/jpeg:https://www.meganeo.fr/wp-content/uploads/Aff_CPF29_2021_2_vign.jpg
END:VEVENT
BEGIN:VEVENT
DTSTART;TZID=Europe/Paris:20210604T183000
DTEND;TZID=Europe/Paris:20210604T200000
DTSTAMP:20260425T044518
CREATED:20210526T075147Z
LAST-MODIFIED:20210526T075147Z
UID:2455-1622831400-1622836800@www.meganeo.fr
SUMMARY:Archéo'conf : Au temps des mégalithes\, usages et formes de la céramique
DESCRIPTION:Une conférence sera donnée par Vincent Ard (chargé de recherche CNRS et président de Méganéo) le 4 juin au Centre d’Interprétation des Mégalithes de Murat à 18h30 dont le thème est : Au temps des mégalithes\, usages et formes de la céramique.  \n 
URL:https://www.meganeo.fr/activite/archeoconf-au-temps-des-megalithes-usages-et-formes-de-la-ceramique/
LOCATION:Centre d’Interprétation des Statues Menhirs\, Rue de la Mairie\, Murat-sur-Vèbre\, 81320
CATEGORIES:Conférence
ATTACH;FMTTYPE=image/jpeg:https://www.meganeo.fr/wp-content/uploads/les-archeoconf.-V.Ard-CIM-scaled.jpg
END:VEVENT
BEGIN:VEVENT
DTSTART;VALUE=DATE:20210605
DTEND;VALUE=DATE:20211004
DTSTAMP:20260425T044518
CREATED:20210616T184356Z
LAST-MODIFIED:20210616T184608Z
UID:2495-1622851200-1633305599@www.meganeo.fr
SUMMARY:Exposition " Le dolmen de Chante-Brault IV. 4 ans de fouilles"
DESCRIPTION:Du 5 juin au 3 octobre 2021\, le musée Charbonneau-Lassay de Loudun (86)  propose au grand public de revenir sur les fouilles qui se sont déroulées de 2016 à 2019 sur le dolmen de Chante-Brault IV. Cette exposition retrace l’histoire et les découvertes faites sur ce monument. \nLivret de visite de l’exposition (PDF) \n 
URL:https://www.meganeo.fr/activite/exposition-le-dolmen-de-chante-brault-iv-4-ans-de-fouilles/
LOCATION:Musée Charbonneau-Lassay\, Loudun\, 24 Rue du Martray\, Loudun\, 86200\, France
CATEGORIES:Exposition
ATTACH;FMTTYPE=image/jpeg:https://www.meganeo.fr/wp-content/uploads/affiche_expo-ch4.jpg
END:VEVENT
BEGIN:VEVENT
DTSTART;VALUE=DATE:20210619
DTEND;VALUE=DATE:20210621
DTSTAMP:20260425T044518
CREATED:20210615T091901Z
LAST-MODIFIED:20210615T111829Z
UID:2484-1624060800-1624233599@www.meganeo.fr
SUMMARY:Journées européennes de l'archéologie 2021
DESCRIPTION:Direction la Vienne et plus précisément Loudun et Saint Laon\, pour les journées européennes de l’archéologie 2021 ! \nAu programme : \n19 juin : visites guidées du dolmen de ChanteBrault IV à St Laon \n20 juin : atelier jeune public au Musée Charbonneau Lassay de Loudun \nTout le weekend : exposition « ChanteBrault IV\, 4 ans de fouilles ! » (visites guidées) \nTous ces animations nécessites une réservation auprès de l’Office du tourisme du Pays Loudunais
URL:https://www.meganeo.fr/activite/journees-europeennes-de-larcheologie-2021/
LOCATION:Musée Charbonneau-Lassay\, Loudun\, 24 Rue du Martray\, Loudun\, 86200\, France
CATEGORIES:Exposition,Visite
ATTACH;FMTTYPE=image/jpeg:https://www.meganeo.fr/wp-content/uploads/France-SaintGermainEnLaye-Hamid-Azmoun.jpg
END:VEVENT
BEGIN:VEVENT
DTSTART;TZID=Europe/Paris:20210629T183000
DTEND;TZID=Europe/Paris:20210629T203000
DTSTAMP:20260425T044518
CREATED:20210611T084557Z
LAST-MODIFIED:20210626T060328Z
UID:2480-1624991400-1624998600@www.meganeo.fr
SUMMARY:Visite des fouilles au Dolmen de Pech Laglaire
DESCRIPTION:Le Parc des Causses du Quercy propose une visite guidée\, gratuite des fouilles en cours sur le Dolmen de Pech Laglaire. \nRendez vous le 29 juin 2021 sur le parking de la salle des fêtes de Gréalou à 18h30. \nLe dolmen n’est pas accessible en voiture\, le lieu de rendez-vous sera précisé lors de votre inscription (places limitées). Et pour ceux qui le souhaitent\, possibilité de poursuivre les échanges lors d’un pique-nique tiré de votre sac. \nRéservation obligatoire : 05 65 24 20 50 ou https://www.billetweb.fr/causseries \n 
URL:https://www.meganeo.fr/activite/visite-des-fouilles-au-dolmen-de-pech-laglaire/
LOCATION:Dolmen Pech Lglaire\, Gréalou
CATEGORIES:Visite
ATTACH;FMTTYPE=image/jpeg:https://www.meganeo.fr/wp-content/uploads/DSC_0511.jpg
END:VEVENT
END:VCALENDAR