BEGIN:VCALENDAR
VERSION:2.0
PRODID:-//Association MégaNéo - ECPv6.15.17.1//NONSGML v1.0//EN
CALSCALE:GREGORIAN
METHOD:PUBLISH
X-WR-CALNAME:Association MégaNéo
X-ORIGINAL-URL:https://www.meganeo.fr
X-WR-CALDESC:Évènements pour Association MégaNéo
REFRESH-INTERVAL;VALUE=DURATION:PT1H
X-Robots-Tag:noindex
X-PUBLISHED-TTL:PT1H
BEGIN:VTIMEZONE
TZID:Europe/Paris
BEGIN:DAYLIGHT
TZOFFSETFROM:+0100
TZOFFSETTO:+0200
TZNAME:CEST
DTSTART:20210328T010000
END:DAYLIGHT
BEGIN:STANDARD
TZOFFSETFROM:+0200
TZOFFSETTO:+0100
TZNAME:CET
DTSTART:20211031T010000
END:STANDARD
BEGIN:DAYLIGHT
TZOFFSETFROM:+0100
TZOFFSETTO:+0200
TZNAME:CEST
DTSTART:20220327T010000
END:DAYLIGHT
BEGIN:STANDARD
TZOFFSETFROM:+0200
TZOFFSETTO:+0100
TZNAME:CET
DTSTART:20221030T010000
END:STANDARD
BEGIN:DAYLIGHT
TZOFFSETFROM:+0100
TZOFFSETTO:+0200
TZNAME:CEST
DTSTART:20230326T010000
END:DAYLIGHT
BEGIN:STANDARD
TZOFFSETFROM:+0200
TZOFFSETTO:+0100
TZNAME:CET
DTSTART:20231029T010000
END:STANDARD
END:VTIMEZONE
BEGIN:VEVENT
DTSTART;VALUE=DATE:20220427
DTEND;VALUE=DATE:20220501
DTSTAMP:20260425T230036
CREATED:20211010T132111Z
LAST-MODIFIED:20220130T145632Z
UID:2600-1651017600-1651363199@www.meganeo.fr
SUMMARY:La place des morts chez les vivants. Architectures\, Mémoires et Rituels\, de la fin du Mésolithique à l'âge du Bronze
DESCRIPTION:Le colloque « La place des morts chez les vivants. Architectures\, Mémoires et Rituels\, de la fin du Mésolithique à l’âge du Bronze » se déroulera à l’Université de La Rochelle du 27 au 30 avril 2022. \nLe programme ainsi que les modalités d’inscription sont à retrouver sur le site dédié au colloque. \nCe colloque est à l’initiative de l’association Internéo en collaboration avec l’APRAB et les RMPR\, et en partenariat avec le service archéologique du Département de la Charente-Maritime.\nIl bénéficie du soutien du ministère de la Culture à travers la DRAC Nouvelle-Aquitaine\, de l’INRAP\, du CNRS\, de l’ANR Monumen\, ainsi que de l’Université de La Rochelle.
URL:https://www.meganeo.fr/activite/la-place-des-morts-chez-les-vivants-architectures-memoires-et-rituels-de-la-fin-du-mesolithique-a-lage-du-bronze/
LOCATION:Université de La Rochelle\, La Rochelle\, 17000\, France
CATEGORIES:Colloque
ATTACH;FMTTYPE=image/jpeg:https://www.meganeo.fr/wp-content/uploads/web-La-ROCHELLE_Rencontres_Nord_Sud_de_Prehistoire.jpg
END:VEVENT
BEGIN:VEVENT
DTSTART;VALUE=DATE:20220505
DTEND;VALUE=DATE:20220509
DTSTAMP:20260425T230036
CREATED:20220331T063625Z
LAST-MODIFIED:20220505T081257Z
UID:2749-1651708800-1652054399@www.meganeo.fr
SUMMARY:Néodyssée édition 2022
DESCRIPTION:Néodyssée\, l’Odyssée du Néolithique entre Loire et Charente \nDu 5 au 8 mai 2022\, le Néolithique est à l’honneur au travers de conférences\, ateliers et visites…. Rendez vous à Tusson en Charente pour cet événement qui se veut pour tous les publics de curieux. \nProgramme détaillé à consulter sur le site de Communautés de Communes Coeur de Charente \nProgramme en version PDF
URL:https://www.meganeo.fr/activite/neodyssee-edition-2022/
LOCATION:Maison du Patrimoine\, Tusson\, 4 Route d'Aigre\, Tusson\, Nouvelle-Aquitaine\, 16140\, France
CATEGORIES:Ateliers,Conférence
ATTACH;FMTTYPE=image/jpeg:https://www.meganeo.fr/wp-content/uploads/neodyssee-2022.jpeg
END:VEVENT
BEGIN:VEVENT
DTSTART;TZID=Europe/Paris:20220524T180000
DTEND;TZID=Europe/Paris:20220524T200000
DTSTAMP:20260425T230036
CREATED:20220502T073034Z
LAST-MODIFIED:20220502T073237Z
UID:2767-1653415200-1653422400@www.meganeo.fr
SUMMARY:Visite du dolmen de Pech Laglaire (campagne 2022)
DESCRIPTION:Une visite du dolmen de Pech Laglaire est proposée le 24 mai à 18h. L’occasion de découvrir ce site et les fouilles qui s’y dérouleront en compagnie de Vincent Ard et de l’équipe du fouille.Une première campagne de fouilles menée en juin 2021 a révélé des surprises présageant des découvertes très stimulantes pour mieux connaître et caractériser le mégalithisme caussenard.\nCe sera l’occasion de mieux comprendre l’enjeu de ces recherches et de constater l’importance des résultats déjà obtenus… \nInscription obligatoire par téléphone : 05 65 24 20 50
URL:https://www.meganeo.fr/activite/visite-du-dolmen-de-pech-laglaire-campagne-2022/
LOCATION:Dolmen Pech Lglaire\, Gréalou
CATEGORIES:Visite
ATTACH;FMTTYPE=image/png:https://www.meganeo.fr/wp-content/uploads/pech-laglaire-dolmen-bandeau.png
END:VEVENT
END:VCALENDAR