BEGIN:VCALENDAR
VERSION:2.0
PRODID:-//Association MégaNéo - ECPv6.15.17.1//NONSGML v1.0//EN
CALSCALE:GREGORIAN
METHOD:PUBLISH
X-ORIGINAL-URL:https://www.meganeo.fr
X-WR-CALDESC:Évènements pour Association MégaNéo
REFRESH-INTERVAL;VALUE=DURATION:PT1H
X-Robots-Tag:noindex
X-PUBLISHED-TTL:PT1H
BEGIN:VTIMEZONE
TZID:Europe/Paris
BEGIN:DAYLIGHT
TZOFFSETFROM:+0100
TZOFFSETTO:+0200
TZNAME:CEST
DTSTART:20210328T010000
END:DAYLIGHT
BEGIN:STANDARD
TZOFFSETFROM:+0200
TZOFFSETTO:+0100
TZNAME:CET
DTSTART:20211031T010000
END:STANDARD
BEGIN:DAYLIGHT
TZOFFSETFROM:+0100
TZOFFSETTO:+0200
TZNAME:CEST
DTSTART:20220327T010000
END:DAYLIGHT
BEGIN:STANDARD
TZOFFSETFROM:+0200
TZOFFSETTO:+0100
TZNAME:CET
DTSTART:20221030T010000
END:STANDARD
BEGIN:DAYLIGHT
TZOFFSETFROM:+0100
TZOFFSETTO:+0200
TZNAME:CEST
DTSTART:20230326T010000
END:DAYLIGHT
BEGIN:STANDARD
TZOFFSETFROM:+0200
TZOFFSETTO:+0100
TZNAME:CET
DTSTART:20231029T010000
END:STANDARD
END:VTIMEZONE
BEGIN:VEVENT
DTSTART;VALUE=DATE:20220701
DTEND;VALUE=DATE:20220829
DTSTAMP:20260426T042044
CREATED:20220717T135429Z
LAST-MODIFIED:20220717T135429Z
UID:2823-1656633600-1661731199@www.meganeo.fr
SUMMARY:Exposition «Mégalithes en Ruffécois»
DESCRIPTION:Rendez vous tout l’été à la maison du Patrimoine de Tusson pour découvrir un ensemble de ressources (films\, maquettes\, posters…) autour du Néolithique en Ruffécois. \nEntrée gratuite
URL:https://www.meganeo.fr/activite/exposition-megalithes-en-ruffecois/
LOCATION:Maison du Patrimoine\, Tusson\, 4 Route d'Aigre\, Tusson\, Nouvelle-Aquitaine\, 16140\, France
CATEGORIES:Exposition
ATTACH;FMTTYPE=image/jpeg:https://www.meganeo.fr/wp-content/uploads/20171031_101012.jpg
END:VEVENT
BEGIN:VEVENT
DTSTART;VALUE=DATE:20220806
DTEND;VALUE=DATE:20220812
DTSTAMP:20260426T042044
CREATED:20220725T070559Z
LAST-MODIFIED:20220725T070619Z
UID:2825-1659744000-1660262399@www.meganeo.fr
SUMMARY:Visitez le site néolithique de La Mangeoie
DESCRIPTION:Lors de la campagne de fouilles prévues cette année sur le site néolithique de La Mangeoie situé dans la Vienne des visites seront proposées au grand public. L’occasion de mieux comprendre ce site d’habitat et de découvrir les premiers résultats de la campagne menée en 2021. \nProgramme des sites : \n\n6 août à 11h\n9 et 11 août à 17h
URL:https://www.meganeo.fr/activite/visitez-le-site-neolitique-de-la-mangeoie/
LOCATION:Site de la Mangeoie\, D 347\, Saint léger de Montbrillais\, 86120
CATEGORIES:Visite
ATTACH;FMTTYPE=image/jpeg:https://www.meganeo.fr/wp-content/uploads/Flyer_Fouilles_animations-aout_2022.jpg
END:VEVENT
BEGIN:VEVENT
DTSTART;VALUE=DATE:20220806
DTEND;VALUE=DATE:20220812
DTSTAMP:20260426T042044
CREATED:20220717T135048Z
LAST-MODIFIED:20220717T135457Z
UID:2820-1659744000-1660262399@www.meganeo.fr
SUMMARY:Site de Tusson : visites guidées 2022
DESCRIPTION:Venez découvrir le site de Tusson avec les scientifiques et les fouilleurs présents pour cette nouvelle campagne 2022. \nTrois visites sont prévues : \n\n6 août à 11h\n9 août à 17h\n11 août à 17h\n\n 
URL:https://www.meganeo.fr/activite/site-de-tusson-visites-guidees-2022/
CATEGORIES:Visite
ATTACH;FMTTYPE=image/jpeg:https://www.meganeo.fr/wp-content/uploads/Gabari-article-7.jpg
END:VEVENT
BEGIN:VEVENT
DTSTART;TZID=Europe/Paris:20220817T170000
DTEND;TZID=Europe/Paris:20220824T173000
DTSTAMP:20260426T042044
CREATED:20220717T075457Z
LAST-MODIFIED:20220717T075457Z
UID:2815-1660755600-1661362200@www.meganeo.fr
SUMMARY:Site de Charmé : visites guidées 2022
DESCRIPTION:Venez découvrir le site de Charmé pour la nouvelle campagne de fouilles 2022. C’est l’occasion de rencontrer les scientifiques et les fouilleurs qui travaillent sur ce chantier. \nDates : \n\n17 août à 17h\n20 août à 17h\n24 août à 10h\n\nLa visite est gratuite.
URL:https://www.meganeo.fr/activite/site-de-charme-visites-guidees-2022/
CATEGORIES:Visite
ATTACH;FMTTYPE=image/jpeg:https://www.meganeo.fr/wp-content/uploads/Charmé_Le_Peu-e1507460859904.jpg
END:VEVENT
BEGIN:VEVENT
DTSTART;TZID=Europe/Paris:20220831T210000
DTEND;TZID=Europe/Paris:20220831T220000
DTSTAMP:20260426T042044
CREATED:20220830T101326Z
LAST-MODIFIED:20220830T101437Z
UID:2847-1661979600-1661983200@www.meganeo.fr
SUMMARY:Monumentalisme néolithique dans le sud-ouest de la France. Sites ceinturés et monuments mégalithiques en Nouvelle Aquitaine.
DESCRIPTION:Une conférence sera donnée sur le thème « Monumentalisme néolithique dans le sud-ouest de la France. Sites ceinturés et monuments mégalithiques en Nouvelle Aquitaine. » par Vincent Ard\, chargé de recherche au CNRS au Musée de Carnac.
URL:https://www.meganeo.fr/activite/monumentalisme-neolithique-dans-le-sud-ouest-de-la-france-sites-ceintures-et-monuments-megalithiques-en-nouvelle-aquitaine-2/
LOCATION:Musée de préhistoire – Carnac\, 26 Rue Du Tumulus\, Carnac\, 56340
CATEGORIES:Conférence
ATTACH;FMTTYPE=image/png:https://www.meganeo.fr/wp-content/uploads/dolmen.png
END:VEVENT
END:VCALENDAR